BEGIN:VCALENDAR
VERSION:2.0
PRODID:-//evangelische-termine.de//NONSGML kigkonsult.se iCalcreator 2.18//
CALSCALE:GREGORIAN
METHOD:PUBLISH
X-WR-CALNAME:iCal Evangelische-Termine 26.04.2026
X-WR-CALDESC:iCalender von Evangelische-Termine (26.04.2026)
X-WR-TIMEZONE:Europe/Berlin
X-MS-OLK-FORCEINSPECTOROPEN:TRUE
BEGIN:VTIMEZONE
TZID:Europe/Berlin
BEGIN:STANDARD
DTSTART:19701025T030000
TZOFFSETFROM:+0200
TZOFFSETTO:+0100
RRULE:FREQ=YEARLY;BYDAY=-1SU;BYMONTH=10
TZNAME:CET
END:STANDARD
BEGIN:DAYLIGHT
DTSTART:19700329T020000
TZOFFSETFROM:+0100
TZOFFSETTO:+0200
RRULE:FREQ=YEARLY;BYDAY=-1SU;BYMONTH=3
TZNAME:CEST
END:DAYLIGHT
END:VTIMEZONE
BEGIN:VEVENT
UID:20260510T110000-778306@evangelische-termine.de
DTSTAMP:20260426T001712Z
DESCRIPTION:\nKurzbeschreibung: Die Friedensinsel ruhig entdecken. | Gottes
 dienst\nPfarrperson oder Gottesdienstleitung: .\nVeranstaltungsort: Ev. Pa
 tmos-Gemeinde Steglitz\nGritznerstraße 18/20\n12163 Berlin\nBus 282 Gritzn
 erstraße | U 3 - Breitenbachplatz | U 9 - Schlossstraße |  \n\nUnsere Kirc
 he ist geöffnet: MO\, MI von 09.00 bis 11.00 Uhr | DI von 09.00 bis 11.00 
 und 14.00 bis 16.00 Uhr | DO von 10.00 bis 12.00 Uhr\nKollekte: Für die Pa
 rtnerkirchen in Kuba & Osteuropa (je 1/2).\nWeitere Informationen/Besonder
 e Hinweise: So sieht die Stunde aus:\n11:00 Uhr Träumen unter Friedas Flüg
 eln\n11:30 Uhr Am Spiegelei eine Geschichte hören\n11:50 Uhr Friedensgruß 
 von Frieda\nEingeladen sind Kinder und Erwachsene\, die Kirche neu zu entd
 ecken.\nInternetadresse: https://www.kirchenkreis-steglitz.de/kinderkathed
 rale
DTSTART;TZID=Europe/Berlin:20260510T110000
DTEND;TZID=Europe/Berlin:20260510T120000
LOCATION:Berlin: Ev. Patmos-Gemeinde Steglitz
SUMMARY:Offene Kinderkathedrale mit Friedensgruß von Frieda für Groß und Kl
 ein
URL:https://www.ekbo-termine.de/veranstaltung_im_detail778306.html
END:VEVENT
END:VCALENDAR
