BEGIN:VCALENDAR
VERSION:2.0
PRODID:-//evangelische-termine.de//NONSGML kigkonsult.se iCalcreator 2.18//
CALSCALE:GREGORIAN
METHOD:PUBLISH
X-WR-CALNAME:iCal Evangelische-Termine 23.04.2026
X-WR-CALDESC:iCalender von Evangelische-Termine (23.04.2026)
X-WR-TIMEZONE:Europe/Berlin
X-MS-OLK-FORCEINSPECTOROPEN:TRUE
BEGIN:VTIMEZONE
TZID:Europe/Berlin
BEGIN:STANDARD
DTSTART:19701025T030000
TZOFFSETFROM:+0200
TZOFFSETTO:+0100
RRULE:FREQ=YEARLY;BYDAY=-1SU;BYMONTH=10
TZNAME:CET
END:STANDARD
BEGIN:DAYLIGHT
DTSTART:19700329T020000
TZOFFSETFROM:+0100
TZOFFSETTO:+0200
RRULE:FREQ=YEARLY;BYDAY=-1SU;BYMONTH=3
TZNAME:CEST
END:DAYLIGHT
END:VTIMEZONE
BEGIN:VEVENT
UID:20260625T200000-777852@evangelische-termine.de
DTSTAMP:20260423T083336Z
DESCRIPTION:\nKurzbeschreibung: Europe Blues Train Festival 2026\nVeranstal
 tungsort: Petruskirche Lichterfelde\nOberhofer Platz\n12209 Berlin\nOberho
 fer Platz: Bus 284\;\nS Lichterfelde-Ost: RE 3\,4\,5\; S25\; S26\; Bus X11
 \, M11\, 184\, 284\nWeitere Informationen/Besondere Hinweise: Der Europe B
 lues Train hält auch 2026 wieder in der Petruskirche Lichterfelde\, mit zw
 ei mitreißenden internationalen Duos:\nAARON BROOKS & KAROLÍNA KORECKÁ (CZ
 /US)\nAaron Brooks\, ehemaliger Leadsänger der gefeierten amerikanischen P
 sychedelic-Rock-Band Simeon Soul Charger\, veröffentlichte 2018 sein Debüt
 -Soloalbum „Homunculus“\, eine Mischung aus Psychedelic Rock und Folk. Kar
 olína Korecká ist Cellistin und Sängerin aus Pilsen\, die mit ihren eigene
 n Bands Crimson Fields und KáVa und renommierten Pilsener Musikern auftrit
 t. Aaron und Karolína touren seit vier Jahren mit einem Akustikprogramm\, 
 das aus Aarons Liedern besteht.\nTHE SHALLARAS (IT/AUS)\nThe Shallaras\, g
 egründet 2023 von der australischen Sängerin Angela Cory und dem italienis
 chen Gitarristen Mauro Pandolfino\, bringen die Energie einer ganzen Band 
 in ein Duo und verbinden den rohen Geist von Rock’n’Roll\, Rhythm & Blues 
 und Garage der 50er und 60er Jahre mit Bewegung und Tanz. Ihre Liveshows s
 ind direkt\, intensiv\, nah am Publikum und voller Rhythmus. \nAngela Cory
 \, geboren in Sydney\, begann in der australischen Punkszene\, bevor sie R
 ockabilly- und R&B-Bands anführte. Mauro Pandolfino\, Gitarrist und Kompon
 ist aus Rom\, bewegt sich zwischen Rock’n’Roll\, Blues\, Jazz\, Punk und e
 lektronischer Musik. \n* * * *\nDer Veranstaltungsort ist barrierefrei für
  Rollstuhlfahrer*innen\nMusikalische Kategorie: Gospel / Popmusik / Jazz\;
  Rock\nMitwirkende/Interpret(en): Aaron Brooks - guitar\, voc\nKarolína Ko
 recká - cello\, voc\n* * * *\nAngela Cory - lead vocals\, percussion\nMaur
 o Pandolfino - guitar\, percussion\n\nweitere Infos & reinhören:\nhttps://
 www.aaronbrooks.net/\nhttps://youtu.be/GYAbD5Uo1rA?si=wkArlBxrnV2P0u7_\nht
 tps://youtu.be/7BHVj05p6wA?si=3IBvlYUAVBozVHbt\n\nhttps://www.theshallaras
 .com/home/\nhttps://youtu.be/oPg8D2q2BNg?si=Dua8uvQcG2vdsh3N\nEintritt: Ti
 ckets: 22€\nInternetadresse: https://www.petrus-kultur.de/\nAnsprechperson
 : Kultur in der Petruskirche info@petrus-kultur.de\n030 / 81809966
DTSTART;TZID=Europe/Berlin:20260625T200000
DTEND;TZID=Europe/Berlin:20260625T210000
LOCATION:Berlin: Petruskirche Lichterfelde
SUMMARY:Doppelkonzert mit AARON BROOKS & KAROLÍNA KORECKÁ (CZ/US) / THE SHA
 LLARAS (IT/AUS)
URL:https://www.ekbo-termine.de/veranstaltung_im_detail777852.html
END:VEVENT
END:VCALENDAR
