BEGIN:VCALENDAR
VERSION:2.0
PRODID:-//evangelische-termine.de//NONSGML kigkonsult.se iCalcreator 2.18//
CALSCALE:GREGORIAN
METHOD:PUBLISH
X-WR-CALNAME:iCal Evangelische-Termine 22.04.2026
X-WR-CALDESC:iCalender von Evangelische-Termine (22.04.2026)
X-WR-TIMEZONE:Europe/Berlin
X-MS-OLK-FORCEINSPECTOROPEN:TRUE
BEGIN:VTIMEZONE
TZID:Europe/Berlin
BEGIN:STANDARD
DTSTART:19701025T030000
TZOFFSETFROM:+0200
TZOFFSETTO:+0100
RRULE:FREQ=YEARLY;BYDAY=-1SU;BYMONTH=10
TZNAME:CET
END:STANDARD
BEGIN:DAYLIGHT
DTSTART:19700329T020000
TZOFFSETFROM:+0100
TZOFFSETTO:+0200
RRULE:FREQ=YEARLY;BYDAY=-1SU;BYMONTH=3
TZNAME:CEST
END:DAYLIGHT
END:VTIMEZONE
BEGIN:VEVENT
UID:20260620T200000-777845@evangelische-termine.de
DTSTAMP:20260422T170811Z
DESCRIPTION:\nKurzbeschreibung: „Ein Sommernachtstraum“\nVeranstaltungsort:
  Petruskirche Lichterfelde\nOberhofer Platz\n12209 Berlin\nOberhofer Platz
 : Bus 284\;\nS Lichterfelde-Ost: RE 3\,4\,5\; S25\; S26\; Bus X11\, M11\, 
 184\, 284\nWeitere Informationen/Besondere Hinweise: Holm Birkholz\, Geige
 r der Berliner Philharmoniker a.D.\, lädt Sie ein\, zusammen mit seinen zw
 ei Philharmonischen Kollegen David Riniker (Violoncello) und Janusz Widzyk
  (Kontrabass)\, eine meditative Reise durch eine Mittsommernacht zu erlebe
 n.\nDie drei Musiker verbindet seit langem eine intensive kollegiale Freun
 dschaft\, der die Entstehung vieler Kompositionen zu verdanken ist\, da Da
 vid Riniker und Holm Birkholz auch als Komponisten sehr erfolgreich sind. 
 Sie hören einige Werke aus den sehr kreativen gemeinsamen Schaffensphasen.
 \nHolm Birkholz ist an diesem Ort – zusammen mit Gudrun Birkholz – bereits
  regelmäßig mit diversen Solo- und Duoprogrammen präsent gewesen. David Ri
 niker und Janusz Widzyk werden aus ihrem „Philharmonia Duo“-Programm sehr 
 spannende Klangwelten beisteuern und in den sommerlichen Nachthimmel sende
 n. \nGudrun Birkholz akzentuiert mit ihrer Bühnenbildinstallation die subt
 ilen Klänge dieses traumhaften Konzertes.\n\n* * * *\nDer Veranstaltungsor
 t ist barrierefrei für Rollstuhlfahrer*innen\nMusikalische Kategorie: Orch
 ester / Ensembles\; Neue Musik / Avantgarde\; Weltmusik\; Kammermusik\; So
 nstiges\nMitwirkende/Interpret(en): Holm Birkholz - Violine\, Klangschalen
  & Komposition\n„Philharmonia Duo“:\nDavid Riniker - Violoncello & Komposi
 tion\nJanusz Widzyk - Kontrabass\n\nGudrun Birkholz - Bühnenbild\n\nweiter
 e Infos & reinhören:\nhttps://www.klanglandschaften-birkholz.de/\nhttps://
 www.berliner-philharmoniker.de/ueber-uns/orchester/ensembles/philharmonia-
 duo/\nhttps://youtu.be/mim-NpaHCKY?si=q5gk85XUJcyT4xoh\nhttps://youtu.be/e
 6jAeQAQ5dI?si=1pgB4NQrYBjTVSIa\nEintritt: Tickets: 18 €\nInternetadresse: 
 https://www.petrus-kultur.de/\nAnsprechperson: Kultur in der Petruskirche 
 info@petrus-kultur.de\n030 / 81809966
DTSTART;TZID=Europe/Berlin:20260620T200000
DTEND;TZID=Europe/Berlin:20260620T210000
LOCATION:Berlin: Petruskirche Lichterfelde
SUMMARY:HOLM BIRKHOLZ & „PHILHARMONIA DUO“
URL:https://www.ekbo-termine.de/veranstaltung_im_detail777845.html
END:VEVENT
END:VCALENDAR
