BEGIN:VCALENDAR
VERSION:2.0
PRODID:-//evangelische-termine.de//NONSGML kigkonsult.se iCalcreator 2.18//
CALSCALE:GREGORIAN
METHOD:PUBLISH
X-WR-CALNAME:iCal Evangelische-Termine 22.04.2026
X-WR-CALDESC:iCalender von Evangelische-Termine (22.04.2026)
X-WR-TIMEZONE:Europe/Berlin
X-MS-OLK-FORCEINSPECTOROPEN:TRUE
BEGIN:VTIMEZONE
TZID:Europe/Berlin
BEGIN:STANDARD
DTSTART:19701025T030000
TZOFFSETFROM:+0200
TZOFFSETTO:+0100
RRULE:FREQ=YEARLY;BYDAY=-1SU;BYMONTH=10
TZNAME:CET
END:STANDARD
BEGIN:DAYLIGHT
DTSTART:19700329T020000
TZOFFSETFROM:+0100
TZOFFSETTO:+0200
RRULE:FREQ=YEARLY;BYDAY=-1SU;BYMONTH=3
TZNAME:CEST
END:DAYLIGHT
END:VTIMEZONE
BEGIN:VEVENT
UID:20260614T180000-777517@evangelische-termine.de
DTSTAMP:20260421T232238Z
DESCRIPTION:\nVeranstaltungsort: Epiphanienkirche\nKnobelsdorffstraße 72\n1
 4059 Berlin\nBus 139 (Knobelsdorffstraße)\nU2 (Kaiserdamm)\nRingbahn S 41 
 und S 42 (Messe Nord / ICC)\n- jeweils mit mehreren Minuten Fußweg -\n\ndi
 rekt gelegen an der Stadtautobahn BAB 100\, Anschlußstelle Kaiserdamm\neig
 ener Parkplatz\, Zufahrt über Epiphanienweg\nMusikalische Kategorie: Chorm
 usik\; Orgelmusik\nAufgeführte Werke: Werke von Orlando Gibbons\, Georg Fr
 iedrich Händel\, Samuel Wesley\, Ralph Vaughan Williams\, Percy Whitlock\,
  William Mathias\, Piers Maxim u.a.\nMitwirkende/Interpret(en): Embassy Si
 ngers\, Andrew Sims - Leitung\, Anna Lusikov - Orgel\nEintritt: frei\, Spe
 nden für die Kirchenmusik sind herzlich willkommen
DTSTART;TZID=Europe/Berlin:20260614T180000
DTEND;TZID=Europe/Berlin:20260614T190000
LOCATION:Berlin: Epiphanienkirche
SUMMARY:Geistliche Abendmusik. Make a joyful noise. Englische Chor- und Org
 elmusik
URL:https://www.ekbo-termine.de/veranstaltung_im_detail777517.html
END:VEVENT
END:VCALENDAR
