BEGIN:VCALENDAR
VERSION:2.0
PRODID:-//evangelische-termine.de//NONSGML kigkonsult.se iCalcreator 2.18//
CALSCALE:GREGORIAN
METHOD:PUBLISH
X-WR-CALNAME:iCal Evangelische-Termine 20.04.2026
X-WR-CALDESC:iCalender von Evangelische-Termine (20.04.2026)
X-WR-TIMEZONE:Europe/Berlin
X-MS-OLK-FORCEINSPECTOROPEN:TRUE
BEGIN:VTIMEZONE
TZID:Europe/Berlin
BEGIN:STANDARD
DTSTART:19701025T030000
TZOFFSETFROM:+0200
TZOFFSETTO:+0100
RRULE:FREQ=YEARLY;BYDAY=-1SU;BYMONTH=10
TZNAME:CET
END:STANDARD
BEGIN:DAYLIGHT
DTSTART:19700329T020000
TZOFFSETFROM:+0100
TZOFFSETTO:+0200
RRULE:FREQ=YEARLY;BYDAY=-1SU;BYMONTH=3
TZNAME:CEST
END:DAYLIGHT
END:VTIMEZONE
BEGIN:VEVENT
UID:20260510T093000-777422@evangelische-termine.de
DTSTAMP:20260420T210453Z
DESCRIPTION:\nKurzbeschreibung: Rogate\nPfarrperson oder Gottesdienstleitun
 g: Thilo Haak\nVeranstaltungsort: Osterkirche\nSamoastraße 14\n13353 Berli
 n\nTel.: 030 - 453 30 43\nFax: 030 - 67 30 28 68\nMail: info@ostergemeinde
 berlin.de\nwww.ostergemeindeberlin.de\nLektor:in: Heiner Sylvester\nOrgani
 st:in: Steffen R. Schwarzer\nAnsprechperson: Evangelische Osterkirchengeme
 inde info@ostergemeindeberlin.de\nTel.: 030/ 453 30 43
DTSTART;TZID=Europe/Berlin:20260510T093000
DTEND;TZID=Europe/Berlin:20260510T103000
LOCATION:Berlin: Osterkirche
SUMMARY:Gottesdienst mit Abendmahl
URL:https://www.ekbo-termine.de/veranstaltung_im_detail777422.html
END:VEVENT
END:VCALENDAR
