BEGIN:VCALENDAR
VERSION:2.0
PRODID:-//evangelische-termine.de//NONSGML kigkonsult.se iCalcreator 2.18//
CALSCALE:GREGORIAN
METHOD:PUBLISH
X-WR-CALNAME:iCal Evangelische-Termine 26.04.2026
X-WR-CALDESC:iCalender von Evangelische-Termine (26.04.2026)
X-WR-TIMEZONE:Europe/Berlin
X-MS-OLK-FORCEINSPECTOROPEN:TRUE
BEGIN:VTIMEZONE
TZID:Europe/Berlin
BEGIN:STANDARD
DTSTART:19701025T030000
TZOFFSETFROM:+0200
TZOFFSETTO:+0100
RRULE:FREQ=YEARLY;BYDAY=-1SU;BYMONTH=10
TZNAME:CET
END:STANDARD
BEGIN:DAYLIGHT
DTSTART:19700329T020000
TZOFFSETFROM:+0100
TZOFFSETTO:+0200
RRULE:FREQ=YEARLY;BYDAY=-1SU;BYMONTH=3
TZNAME:CEST
END:DAYLIGHT
END:VTIMEZONE
BEGIN:VEVENT
UID:20260420T000000-777260@evangelische-termine.de
DTSTAMP:20260426T013342Z
DESCRIPTION:\nKurzbeschreibung: Was leuchtet in deinem Leben? Was macht dic
 h aus – und woran glaubst du eigentlich? Im September 2026 starten wir ein
 e neue Konfigruppe – und du sollst dabei sein.\nVeranstaltungsort: Emmaus-
 Kirchengemeinde\nOnkel-Tom-Straße 80\n14169 Berlin\nWeitere Informationen/
 Besondere Hinweise: leuchten – die neue Konfizeit der Ev. Emmausgemeinde Z
 ehlendorf\nWas leuchtet in deinem Leben? Was macht dich aus – und woran gl
 aubst du eigentlich?\nIm September 2026 starten wir eine neue Konfigruppe 
 – und du sollst dabei sein.\nDu bist 13 oder älter? Perfekt. Wir treffen u
 ns einmal im Monat sonntags von 11 bis 16 Uhr – und wer mehr will\, kommt 
 auch freitags ab 16 Uhr dazu. Dazu machen wir zwei Reisen\, Ausflüge und A
 ktionen und denken zusammen nach: über den Glauben\, über die Welt\, über 
 dich. Du musst nicht zur Gemeinde gehören. Du musst nicht getauft sein. Un
 d wenn du nicht alleine kommen magst – bring einfach deine Freunde mit.\n„
 Ihr seid das Licht der Welt.' (Mt 5\,14) – Jesus traut uns zu\, dass wir l
 euchten können. Wir laden euch ein\, das gemeinsam herauszufinden. Alle we
 iteren Infos gibt es beim Eltern-Infoabend am Donnerstag\, 25. Juni 2026\,
  um 18 Uhr in unserer Kirche in der Onkel-Tom-Strasse 80. Am Sonntag\, dem
  16. Mai 2027\, feiern wir Konfirmation. Für weitere Infos wende dich gern
 e an: Pfarrerin Katharina Freymuth-Loh\, Ev. Emmausgemeinde Zehlendorf\, B
 erlin.freymuth@ema-gemeinde.de0176-83 222 447\nWir freuen uns auf Dich!\nA
 nsprechperson: Pfarrerin Katharina Freymuth-Loh freymuth@ema-gemeinde.de
DTSTART;VALUE=DATE:20260420
DTEND;VALUE=DATE:20270524
LOCATION:Berlin: Emmaus-Kirchengemeinde
SUMMARY:Anmeldung Konfizeit 2026/2027 Emmaus Gemeinde
URL:https://www.ekbo-termine.de/veranstaltung_im_detail777260.html
END:VEVENT
END:VCALENDAR
