BEGIN:VCALENDAR
VERSION:2.0
PRODID:-//evangelische-termine.de//NONSGML kigkonsult.se iCalcreator 2.18//
CALSCALE:GREGORIAN
METHOD:PUBLISH
X-WR-CALNAME:iCal Evangelische-Termine 20.04.2026
X-WR-CALDESC:iCalender von Evangelische-Termine (20.04.2026)
X-WR-TIMEZONE:Europe/Berlin
X-MS-OLK-FORCEINSPECTOROPEN:TRUE
BEGIN:VTIMEZONE
TZID:Europe/Berlin
BEGIN:STANDARD
DTSTART:19701025T030000
TZOFFSETFROM:+0200
TZOFFSETTO:+0100
RRULE:FREQ=YEARLY;BYDAY=-1SU;BYMONTH=10
TZNAME:CET
END:STANDARD
BEGIN:DAYLIGHT
DTSTART:19700329T020000
TZOFFSETFROM:+0100
TZOFFSETTO:+0200
RRULE:FREQ=YEARLY;BYDAY=-1SU;BYMONTH=3
TZNAME:CEST
END:DAYLIGHT
END:VTIMEZONE
BEGIN:VEVENT
UID:20260613T200000-777099@evangelische-termine.de
DTSTAMP:20260420T213203Z
DESCRIPTION:\nKurzbeschreibung: „Chanson Cinematique“\nVeranstaltungsort: P
 etruskirche Lichterfelde\nOberhofer Platz\n12209 Berlin\nOberhofer Platz: 
 Bus 284\;\nS Lichterfelde-Ost: RE 3\,4\,5\; S25\; S26\; Bus X11\, M11\, 18
 4\, 284\nWeitere Informationen/Besondere Hinweise: Die Musik des Duos Rota
 tonics lässt sich nicht in eine Schublade pressen. Mit traumwandlerischer 
 Sicherheit changiert sie zwischen so verschiedenen Stilen wie Chanson\, Ta
 ngo\, Filmmusik\, amerikanischer und osteuropäischer Folkmusik und sogar K
 lassik. Was dabei herauskommt\, nennen sie selbst „Chanson Cinematique“.\n
 \nMusiziert wird auf Piano und Gitarre\, aber auch so ungewöhnlichen Instr
 umenten wie Lapsteel-Gitarre\, Harmonika\, Orgel\, 5-string-Banjo und sing
 ender Säge – alle gleichermaßen virtuos bedient. In einer humorvollen und 
 leidenschaftlichen Performance entsteht zwischen den beiden Berliner Musik
 erInnen vom ersten Ton an eine besondere Spannung\, die die Zuhörer in ihr
 en Bann zieht.\n\nDas erste Album des Duos\, “The Lost Key”\, kombiniert T
 hemen aus den Filmen von Federico Fellini mit Sprache und Klängen zu einer
  Art musikalischem Roman/Roadmovie und wurde für den Jahrespreis der Deuts
 chen Schallplattenkritik 2024 nominiert. Im neuen Programm stehen nun die 
 Gesangsstücke im Vordergrund.\n\nPublikums- & Pressestimmen: Es ist eine  
 wahre Freude\, der Musik zu folgen\, zu hören\, wie die Führung wechselt\,
  wie tiefe Gefühle sich breit machen\, eingerahmt von Geräuschen und Dialo
 gen großer Fellini-Filme.“\n \n* * * *\nDer Veranstaltungsort ist barriere
 frei für Rollstuhlfahrer*innen\nMusikalische Kategorie: Gospel / Popmusik 
 / Jazz\; Weltmusik\; Sonstiges\nMitwirkende/Interpret(en): Marie Elsa Drel
 on - Piano\, Gesang\nCarsten Wegener - Lapsteel\, E-Gitarre\, Orgel\, Harm
 onika & Singende Säg\n\nweitere Infos & reinhören:\nhttps://www.rotatonics
 .com/\nhttps://youtu.be/IcPR9L0tReQ?si=Crt3KeTY3OFizuoc\nhttps://youtu.be/
 2-l2cnjUxj4?si=Y6S65VtlTeABG05_\nEintritt: Tickets: 18 €\nInternetadresse:
  https://www.petrus-kultur.de/\nAnsprechperson: Kultur in der Petruskirche
  info@petrus-kultur.de\n030 / 81809966
DTSTART;TZID=Europe/Berlin:20260613T200000
DTEND;TZID=Europe/Berlin:20260613T210000
LOCATION:Berlin: Petruskirche Lichterfelde
SUMMARY:ROTATONICS
URL:https://www.ekbo-termine.de/veranstaltung_im_detail777099.html
END:VEVENT
END:VCALENDAR
