BEGIN:VCALENDAR
VERSION:2.0
PRODID:-//evangelische-termine.de//NONSGML kigkonsult.se iCalcreator 2.18//
CALSCALE:GREGORIAN
METHOD:PUBLISH
X-WR-CALNAME:iCal Evangelische-Termine 20.04.2026
X-WR-CALDESC:iCalender von Evangelische-Termine (20.04.2026)
X-WR-TIMEZONE:Europe/Berlin
X-MS-OLK-FORCEINSPECTOROPEN:TRUE
BEGIN:VTIMEZONE
TZID:Europe/Berlin
BEGIN:STANDARD
DTSTART:19701025T030000
TZOFFSETFROM:+0200
TZOFFSETTO:+0100
RRULE:FREQ=YEARLY;BYDAY=-1SU;BYMONTH=10
TZNAME:CET
END:STANDARD
BEGIN:DAYLIGHT
DTSTART:19700329T020000
TZOFFSETFROM:+0100
TZOFFSETTO:+0200
RRULE:FREQ=YEARLY;BYDAY=-1SU;BYMONTH=3
TZNAME:CEST
END:DAYLIGHT
END:VTIMEZONE
BEGIN:VEVENT
UID:20260612T200000-777097@evangelische-termine.de
DTSTAMP:20260420T161439Z
DESCRIPTION:\nKurzbeschreibung: Klezmer & World Music\nVeranstaltungsort: P
 etruskirche Lichterfelde\nOberhofer Platz\n12209 Berlin\nOberhofer Platz: 
 Bus 284\;\nS Lichterfelde-Ost: RE 3\,4\,5\; S25\; S26\; Bus X11\, M11\, 18
 4\, 284\nWeitere Informationen/Besondere Hinweise: Das Piazu Trio verbinde
 t kammermusikalische Klezmer- und Weltmusik mit einem klaren\, akustischen
  Klang. Klarinette\, Akustikgitarre und Kontrabass verschmelzen zu einem w
 armen\, intimen Sound\, der ebenso fein nuanciert wie mitreißend ist. Die 
 unterschiedlichen musikalischen Hintergründe der drei Musiker – Jazz\, Kla
 ssik und Pop – prägen den eigenständigen Stil des Ensembles.\nSeit seiner 
 Gründung hat das Piazu Trio drei Alben veröffentlicht. Das Repertoire reic
 ht von ausgewählten Stücken der Klezmer- und Weltmusiktradition bis hin zu
  zahlreichen Eigenkompositionen. Das aktuelle Programm knüpft an diese mus
 ikalischen Wurzeln an und öffnet sich zugleich Einflüssen südamerikanische
 r Musiktraditionen\, die den charakteristischen Klang des Trios erweitern\
 , ohne ihn festzulegen.\nRuhige\, atmosphärische Momente stehen neben rhyt
 hmisch klaren und virtuosen Passagen. Im Zentrum stehen Authentizität und 
 Klang – Musik\, die Raum schafft und zum Eintauchen einlädt.\n\n* * * *\nD
 er Veranstaltungsort ist barrierefrei für Rollstuhlfahrer*innen\nMusikalis
 che Kategorie: Gospel / Popmusik / Jazz\; Weltmusik\; Sonstiges\nMitwirken
 de/Interpret(en): Jonathan Krause - Klarinette \nFelix Beck - Akustikgitar
 re \nNiklas Beck - Kontrabass\n\nweitere Infos & reinhören:\nhttps://www.j
 onathankrausemusic.com/piazutrio/\nhttps://youtu.be/nfndd3JJhK0?si=odOWZVD
 f4G6w0-bI\nhttps://youtu.be/joKiGc_coTQ?si=PJYdtv7i8hdPQutg\nEintritt: Tic
 kets: 20 €\nInternetadresse: https://www.petrus-kultur.de/\nAnsprechperson
 : Kultur in der Petruskirche info@petrus-kultur.de\n030 / 81809966
DTSTART;TZID=Europe/Berlin:20260612T200000
DTEND;TZID=Europe/Berlin:20260612T210000
LOCATION:Berlin: Petruskirche Lichterfelde
SUMMARY:PIAZU TRIO
URL:https://www.ekbo-termine.de/veranstaltung_im_detail777097.html
END:VEVENT
END:VCALENDAR
