BEGIN:VCALENDAR
VERSION:2.0
PRODID:-//evangelische-termine.de//NONSGML kigkonsult.se iCalcreator 2.18//
CALSCALE:GREGORIAN
METHOD:PUBLISH
X-WR-CALNAME:iCal Evangelische-Termine 20.04.2026
X-WR-CALDESC:iCalender von Evangelische-Termine (20.04.2026)
X-WR-TIMEZONE:Europe/Berlin
X-MS-OLK-FORCEINSPECTOROPEN:TRUE
BEGIN:VTIMEZONE
TZID:Europe/Berlin
BEGIN:STANDARD
DTSTART:19701025T030000
TZOFFSETFROM:+0200
TZOFFSETTO:+0100
RRULE:FREQ=YEARLY;BYDAY=-1SU;BYMONTH=10
TZNAME:CET
END:STANDARD
BEGIN:DAYLIGHT
DTSTART:19700329T020000
TZOFFSETFROM:+0100
TZOFFSETTO:+0200
RRULE:FREQ=YEARLY;BYDAY=-1SU;BYMONTH=3
TZNAME:CEST
END:DAYLIGHT
END:VTIMEZONE
BEGIN:VEVENT
UID:20260517T110000-775718@evangelische-termine.de
DTSTAMP:20260420T143204Z
DESCRIPTION:\nKurzbeschreibung: Gottesdienst im Rahmen der Predigtreihe „Fr
 ieden muss noch werden“\nPfarrperson oder Gottesdienstleitung: Pfarrerin D
 r. Marie Hecke\, Aktion Sühnezeichen Friedensdienste\nVeranstaltungsort: E
 v. Patmos-Gemeinde Steglitz\nGritznerstraße 18/20\n12163 Berlin\nBus 282 G
 ritznerstraße | U 3 - Breitenbachplatz | U 9 - Schlossstraße |  \n\nUnsere
  Kirche ist geöffnet: MO\, MI von 09.00 bis 11.00 Uhr | DI von 09.00 bis 1
 1.00 und 14.00 bis 16.00 Uhr | DO von 10.00 bis 12.00 Uhr\nKollekte: Frei 
 nach Entscheidung des Gemeindekirchenrates.\nOrganist:in: Jinyoung Woogt
DTSTART;TZID=Europe/Berlin:20260517T110000
DTEND;TZID=Europe/Berlin:20260517T120000
LOCATION:Berlin: Ev. Patmos-Gemeinde Steglitz
SUMMARY:Predigtreihe „Frieden muss noch werden' mit Pfarrerin Dr. Marie Hec
 ke\, Aktion Sühnezeichen Friedensdienste
URL:https://www.ekbo-termine.de/veranstaltung_im_detail775718.html
END:VEVENT
END:VCALENDAR
