BEGIN:VCALENDAR
VERSION:2.0
PRODID:-//evangelische-termine.de//NONSGML kigkonsult.se iCalcreator 2.18//
CALSCALE:GREGORIAN
METHOD:PUBLISH
X-WR-CALNAME:iCal Evangelische-Termine 19.04.2026
X-WR-CALDESC:iCalender von Evangelische-Termine (19.04.2026)
X-WR-TIMEZONE:Europe/Berlin
X-MS-OLK-FORCEINSPECTOROPEN:TRUE
BEGIN:VTIMEZONE
TZID:Europe/Berlin
BEGIN:STANDARD
DTSTART:19701025T030000
TZOFFSETFROM:+0200
TZOFFSETTO:+0100
RRULE:FREQ=YEARLY;BYDAY=-1SU;BYMONTH=10
TZNAME:CET
END:STANDARD
BEGIN:DAYLIGHT
DTSTART:19700329T020000
TZOFFSETFROM:+0100
TZOFFSETTO:+0200
RRULE:FREQ=YEARLY;BYDAY=-1SU;BYMONTH=3
TZNAME:CEST
END:DAYLIGHT
END:VTIMEZONE
BEGIN:VEVENT
UID:20260503T110000-775467@evangelische-termine.de
DTSTAMP:20260419T122540Z
DESCRIPTION:\nKurzbeschreibung: Gottesdienst\nPfarrperson oder Gottesdienst
 leitung: mit Pfarrer Gottfried Wapler\nVeranstaltungsort: Kirche Krieschow
 \nLausitzer Straße 48\n03099 Kolkwitz / OT Krieschow\nKollekte: Für die Ki
 rchenmusik - kirchenmusikalische Aus- und Fortbildung.\nOrganist:in: Wolfg
 ang Noack
DTSTART;TZID=Europe/Berlin:20260503T110000
DTEND;TZID=Europe/Berlin:20260503T120000
LOCATION:Kolkwitz / OT Krieschow: Kirche Krieschow
SUMMARY:Gottesdienst
URL:https://www.ekbo-termine.de/veranstaltung_im_detail775467.html
END:VEVENT
END:VCALENDAR
