BEGIN:VCALENDAR
VERSION:2.0
PRODID:-//evangelische-termine.de//NONSGML kigkonsult.se iCalcreator 2.18//
CALSCALE:GREGORIAN
METHOD:PUBLISH
X-WR-CALNAME:iCal Evangelische-Termine 19.04.2026
X-WR-CALDESC:iCalender von Evangelische-Termine (19.04.2026)
X-WR-TIMEZONE:Europe/Berlin
X-MS-OLK-FORCEINSPECTOROPEN:TRUE
BEGIN:VTIMEZONE
TZID:Europe/Berlin
BEGIN:STANDARD
DTSTART:19701025T030000
TZOFFSETFROM:+0200
TZOFFSETTO:+0100
RRULE:FREQ=YEARLY;BYDAY=-1SU;BYMONTH=10
TZNAME:CET
END:STANDARD
BEGIN:DAYLIGHT
DTSTART:19700329T020000
TZOFFSETFROM:+0100
TZOFFSETTO:+0200
RRULE:FREQ=YEARLY;BYDAY=-1SU;BYMONTH=3
TZNAME:CEST
END:DAYLIGHT
END:VTIMEZONE
BEGIN:VEVENT
UID:20260429T170000-774937@evangelische-termine.de
DTSTAMP:20260419T123430Z
DESCRIPTION:\nKurzbeschreibung: Besuchsdienstsitzung\nVeranstaltungsort: Ge
 meinderaum Papitz\nKirchstraße 9\n03099 Kolkwitz / OT Papitz\nRäume der Ki
 rchengemeinde im Nebengebäude des Pfarrhauses\nWeitere Informationen/Beson
 dere Hinweise: unter Leitung von Herrn Grohmann\nAnsprechperson: Rüdiger G
 rohmann\, Seelsorger im Ehrenamt
DTSTART;TZID=Europe/Berlin:20260429T170000
DTEND;TZID=Europe/Berlin:20260429T180000
LOCATION:Kolkwitz / OT Papitz: Gemeinderaum Papitz
SUMMARY:Besuchsdienstsitzung
URL:https://www.ekbo-termine.de/veranstaltung_im_detail774937.html
END:VEVENT
END:VCALENDAR
