BEGIN:VCALENDAR
VERSION:2.0
PRODID:-//evangelische-termine.de//NONSGML kigkonsult.se iCalcreator 2.18//
CALSCALE:GREGORIAN
METHOD:PUBLISH
X-WR-CALNAME:iCal Evangelische-Termine 20.04.2026
X-WR-CALDESC:iCalender von Evangelische-Termine (20.04.2026)
X-WR-TIMEZONE:Europe/Berlin
X-MS-OLK-FORCEINSPECTOROPEN:TRUE
BEGIN:VTIMEZONE
TZID:Europe/Berlin
BEGIN:STANDARD
DTSTART:19701025T030000
TZOFFSETFROM:+0200
TZOFFSETTO:+0100
RRULE:FREQ=YEARLY;BYDAY=-1SU;BYMONTH=10
TZNAME:CET
END:STANDARD
BEGIN:DAYLIGHT
DTSTART:19700329T020000
TZOFFSETFROM:+0100
TZOFFSETTO:+0200
RRULE:FREQ=YEARLY;BYDAY=-1SU;BYMONTH=3
TZNAME:CEST
END:DAYLIGHT
END:VTIMEZONE
BEGIN:VEVENT
UID:20260510T120000-772744@evangelische-termine.de
DTSTAMP:20260420T213907Z
DESCRIPTION:\nKurzbeschreibung: CSD-Gottesdienst 'Bin ich hier richtig? Suc
 he Zugehörigkeit'\nPfarrperson oder Gottesdienstleitung: Friedan Holzki\, 
 Gregor Hohberg\, Johannetta Cornell\, Carola Türpe\nMitwirkende: Biggi\, J
 eggy\, Ruth\, Lisianne\, Astrid\, Sophian\nVeranstaltungsort: Ev. St. Niko
 laikirche Potsdam\nAm Alten Markt\n14467 Potsdam\nErreichbarkeit\nDienstag
 s von 10 bis 12 Uhr\, Mittwochs und Donnerstags von 14 bis 17:30 Uhr und n
 ach Vereinbarung \nTel 0331 270 86 02\nWeitere Informationen/Besondere Hin
 weise: Gottesdienst für queers und friends\, von den Stufen der Nikolaikir
 che bis zur Bühne des CSD-Straßenfests\nInternetadresse: https://www.evang
 elisch-in-potsdam.de/angebote/queer\nAnsprechperson: Johannetta Cornell un
 d Friedan Holzki ev-juks@evkirchepotsdam.de
DTSTART;TZID=Europe/Berlin:20260510T120000
DTEND;TZID=Europe/Berlin:20260510T131500
LOCATION:Potsdam: Ev. St. Nikolaikirche Potsdam
SUMMARY:Gottesdienst
URL:https://www.ekbo-termine.de/veranstaltung_im_detail772744.html
END:VEVENT
END:VCALENDAR
