BEGIN:VCALENDAR
VERSION:2.0
PRODID:-//evangelische-termine.de//NONSGML kigkonsult.se iCalcreator 2.18//
CALSCALE:GREGORIAN
METHOD:PUBLISH
X-WR-CALNAME:iCal Evangelische-Termine 26.04.2026
X-WR-CALDESC:iCalender von Evangelische-Termine (26.04.2026)
X-WR-TIMEZONE:Europe/Berlin
X-MS-OLK-FORCEINSPECTOROPEN:TRUE
BEGIN:VTIMEZONE
TZID:Europe/Berlin
BEGIN:STANDARD
DTSTART:19701025T030000
TZOFFSETFROM:+0200
TZOFFSETTO:+0100
RRULE:FREQ=YEARLY;BYDAY=-1SU;BYMONTH=10
TZNAME:CET
END:STANDARD
BEGIN:DAYLIGHT
DTSTART:19700329T020000
TZOFFSETFROM:+0100
TZOFFSETTO:+0200
RRULE:FREQ=YEARLY;BYDAY=-1SU;BYMONTH=3
TZNAME:CEST
END:DAYLIGHT
END:VTIMEZONE
BEGIN:VEVENT
UID:20260426T090000-771400@evangelische-termine.de
DTSTAMP:20260426T013417Z
DESCRIPTION:\nKurzbeschreibung: in EKPN in Kooperation mit dem DRK\nVeranst
 altungsort: Gemeindehaus Elias\nGöhrener Straße 11\n10437 Berlin\nWeitere 
 Informationen/Besondere Hinweise: Kosten: Für Ehrenamtliche und berufliche
  Mitarbeiter*innen unserer Gemeinde (Kirchdienst\, Kigo\, JG\, Konfizeit\,
  Sommerrüste...) kostenfrei.\n\nFür alle anderen 70\,00 €\, hier wird der 
 Beitrag im Vorfeld fällig\n\nAnmeldungen für den 26.04.2026 bis zum 13.04.
 2026\nAnmeldungen für den13.06.2026 bis zum 29.05.2026\nMitwirkende/Interp
 ret(en): Kursleiter: Robert Kleinschmidt vom DRK\nEintritt: siehe oben\nIn
 ternetadresse: https://www.ekpn.de\nAnsprechperson: Antje Erdmann a.erdman
 n@ekpn.de\nTel. 0163-3166152
DTSTART;TZID=Europe/Berlin:20260426T090000
DTEND;TZID=Europe/Berlin:20260426T170000
LOCATION:Berlin: Gemeindehaus Elias
SUMMARY:1. Hilfekurs 2026
URL:https://www.ekbo-termine.de/veranstaltung_im_detail771400.html
END:VEVENT
END:VCALENDAR
