BEGIN:VCALENDAR
VERSION:2.0
PRODID:-//evangelische-termine.de//NONSGML kigkonsult.se iCalcreator 2.18//
CALSCALE:GREGORIAN
METHOD:PUBLISH
X-WR-CALNAME:iCal Evangelische-Termine 20.04.2026
X-WR-CALDESC:iCalender von Evangelische-Termine (20.04.2026)
X-WR-TIMEZONE:Europe/Berlin
X-MS-OLK-FORCEINSPECTOROPEN:TRUE
BEGIN:VTIMEZONE
TZID:Europe/Berlin
BEGIN:STANDARD
DTSTART:19701025T030000
TZOFFSETFROM:+0200
TZOFFSETTO:+0100
RRULE:FREQ=YEARLY;BYDAY=-1SU;BYMONTH=10
TZNAME:CET
END:STANDARD
BEGIN:DAYLIGHT
DTSTART:19700329T020000
TZOFFSETFROM:+0100
TZOFFSETTO:+0200
RRULE:FREQ=YEARLY;BYDAY=-1SU;BYMONTH=3
TZNAME:CEST
END:DAYLIGHT
END:VTIMEZONE
BEGIN:VEVENT
UID:20260614T110000-770209@evangelische-termine.de
DTSTAMP:20260420T093704Z
DESCRIPTION:\nPfarrperson oder Gottesdienstleitung: Alexander Tschernig\nVe
 ranstaltungsort: Kapernaumkirche Wedding\nSeestr. 35\n13353 Berlin\nBus 12
 0\, 106\; Tram M13\, 50\; U Seestraße\n\nOffene Kirche: Mittwoch 16.00 - 1
 8.30 Uhr\nKürzel für Gottesdienste:  A = Abendmahl im Gottesdienst\nOrgani
 st:in: Frank Nebendahl\nAnsprechperson: Ev. Kapernaum-Gemeinde kapernaum@w
 eb.de\nGemeindebüro\nTelefon: 453 83 35\nFax: 454 12 95\nÖffnungszeiten: M
 o geschlossen\; Die 10 - 14 Uhr\, Mi 10 - 13 Uhr\, Do 17 - 19 Uhr\, Fr 10 
 - 13 Uhr
DTSTART;TZID=Europe/Berlin:20260614T110000
DTEND;TZID=Europe/Berlin:20260614T120000
LOCATION:Berlin: Kapernaumkirche Wedding
SUMMARY:Gottesdienst mit Abendmahl
URL:https://www.ekbo-termine.de/veranstaltung_im_detail770209.html
END:VEVENT
END:VCALENDAR
