BEGIN:VCALENDAR
VERSION:2.0
PRODID:-//evangelische-termine.de//NONSGML kigkonsult.se iCalcreator 2.18//
CALSCALE:GREGORIAN
METHOD:PUBLISH
X-WR-CALNAME:iCal Evangelische-Termine 20.04.2026
X-WR-CALDESC:iCalender von Evangelische-Termine (20.04.2026)
X-WR-TIMEZONE:Europe/Berlin
X-MS-OLK-FORCEINSPECTOROPEN:TRUE
BEGIN:VTIMEZONE
TZID:Europe/Berlin
BEGIN:STANDARD
DTSTART:19701025T030000
TZOFFSETFROM:+0200
TZOFFSETTO:+0100
RRULE:FREQ=YEARLY;BYDAY=-1SU;BYMONTH=10
TZNAME:CET
END:STANDARD
BEGIN:DAYLIGHT
DTSTART:19700329T020000
TZOFFSETFROM:+0100
TZOFFSETTO:+0200
RRULE:FREQ=YEARLY;BYDAY=-1SU;BYMONTH=3
TZNAME:CEST
END:DAYLIGHT
END:VTIMEZONE
BEGIN:VEVENT
UID:20260610T193000-767859@evangelische-termine.de
DTSTAMP:20260420T162800Z
DESCRIPTION:\nKurzbeschreibung: 'Depression und Gotteserfahrung - am Beispi
 el des Propheten Elia'\nVeranstaltungsort: Gemeindehaus Alt-Pankow\nBreite
  Str. 38\n13187 Berlin\nMitwirkende/Interpret(en): Referentin für Frauenar
 beit in der Kath. Kirche Berlin\, Angelika Plümpe\nAnsprechperson: Wolfgan
 g Wendt w.wendt@alt-pankow.de
DTSTART;TZID=Europe/Berlin:20260610T193000
DTEND;TZID=Europe/Berlin:20260610T203000
LOCATION:Berlin: Gemeindehaus Alt-Pankow
SUMMARY:Ökumenisches Bibelgespräch :: Text: 1. Kön.19
URL:https://www.ekbo-termine.de/veranstaltung_im_detail767859.html
END:VEVENT
END:VCALENDAR
