BEGIN:VCALENDAR
VERSION:2.0
PRODID:-//evangelische-termine.de//NONSGML kigkonsult.se iCalcreator 2.18//
CALSCALE:GREGORIAN
METHOD:PUBLISH
X-WR-CALNAME:iCal Evangelische-Termine 19.04.2026
X-WR-CALDESC:iCalender von Evangelische-Termine (19.04.2026)
X-WR-TIMEZONE:Europe/Berlin
X-MS-OLK-FORCEINSPECTOROPEN:TRUE
BEGIN:VTIMEZONE
TZID:Europe/Berlin
BEGIN:STANDARD
DTSTART:19701025T030000
TZOFFSETFROM:+0200
TZOFFSETTO:+0100
RRULE:FREQ=YEARLY;BYDAY=-1SU;BYMONTH=10
TZNAME:CET
END:STANDARD
BEGIN:DAYLIGHT
DTSTART:19700329T020000
TZOFFSETFROM:+0100
TZOFFSETTO:+0200
RRULE:FREQ=YEARLY;BYDAY=-1SU;BYMONTH=3
TZNAME:CEST
END:DAYLIGHT
END:VTIMEZONE
BEGIN:VEVENT
UID:20260513T193000-767857@evangelische-termine.de
DTSTAMP:20260419T162040Z
DESCRIPTION:\nKurzbeschreibung: 'Friedenshandeln in Palästina - bei Abraham
  und Isaak'\nVeranstaltungsort: Gemeindehaus Alt-Pankow\nBreite Str. 38\n1
 3187 Berlin\nMitwirkende/Interpret(en): Pfarrerin i.R. Annemarie Werner\nI
 nternetadresse: https://www.alt-pankow.de\nAnsprechperson: Wolfgang Wendt 
 w.wendt@alt-pankow.de
DTSTART;TZID=Europe/Berlin:20260513T193000
DTEND;TZID=Europe/Berlin:20260513T203000
LOCATION:Berlin: Gemeindehaus Alt-Pankow
SUMMARY:Ökumenisches Bibelgespräch :: Texte: Gen. 21\,22ff und Gen. 26\,12f
 f  
URL:https://www.ekbo-termine.de/veranstaltung_im_detail767857.html
END:VEVENT
END:VCALENDAR
