BEGIN:VCALENDAR
VERSION:2.0
PRODID:-//evangelische-termine.de//NONSGML kigkonsult.se iCalcreator 2.18//
CALSCALE:GREGORIAN
METHOD:PUBLISH
X-WR-CALNAME:iCal Evangelische-Termine 20.04.2026
X-WR-CALDESC:iCalender von Evangelische-Termine (20.04.2026)
X-WR-TIMEZONE:Europe/Berlin
X-MS-OLK-FORCEINSPECTOROPEN:TRUE
BEGIN:VTIMEZONE
TZID:Europe/Berlin
BEGIN:STANDARD
DTSTART:19701025T030000
TZOFFSETFROM:+0200
TZOFFSETTO:+0100
RRULE:FREQ=YEARLY;BYDAY=-1SU;BYMONTH=10
TZNAME:CET
END:STANDARD
BEGIN:DAYLIGHT
DTSTART:19700329T020000
TZOFFSETFROM:+0100
TZOFFSETTO:+0200
RRULE:FREQ=YEARLY;BYDAY=-1SU;BYMONTH=3
TZNAME:CEST
END:DAYLIGHT
END:VTIMEZONE
BEGIN:VEVENT
UID:20260517T110000-766589@evangelische-termine.de
DTSTAMP:20260420T143556Z
DESCRIPTION:\nKurzbeschreibung: Seien Sie willkommen zum Geburtstags-Gottes
 dienst in der Bornimer Kirche\nPfarrperson oder Gottesdienstleitung: Magda
 lena Gäbel\nMitwirkende: Team Geburtstags GD\nVeranstaltungsort: Ev. Kirch
 e Bornim\nRückertstrasse\, 1\n14469 Potsdam\nOrganist:in: Stefan Krüger
DTSTART;TZID=Europe/Berlin:20260517T110000
DTEND;TZID=Europe/Berlin:20260517T120000
LOCATION:Potsdam: Ev. Kirche Bornim
SUMMARY:Geburtstags-Gottesdienst in Bornim
URL:https://www.ekbo-termine.de/veranstaltung_im_detail766589.html
END:VEVENT
END:VCALENDAR
