BEGIN:VCALENDAR
VERSION:2.0
PRODID:-//evangelische-termine.de//NONSGML kigkonsult.se iCalcreator 2.18//
CALSCALE:GREGORIAN
METHOD:PUBLISH
X-WR-CALNAME:iCal Evangelische-Termine 20.04.2026
X-WR-CALDESC:iCalender von Evangelische-Termine (20.04.2026)
X-WR-TIMEZONE:Europe/Berlin
X-MS-OLK-FORCEINSPECTOROPEN:TRUE
BEGIN:VTIMEZONE
TZID:Europe/Berlin
BEGIN:STANDARD
DTSTART:19701025T030000
TZOFFSETFROM:+0200
TZOFFSETTO:+0100
RRULE:FREQ=YEARLY;BYDAY=-1SU;BYMONTH=10
TZNAME:CET
END:STANDARD
BEGIN:DAYLIGHT
DTSTART:19700329T020000
TZOFFSETFROM:+0100
TZOFFSETTO:+0200
RRULE:FREQ=YEARLY;BYDAY=-1SU;BYMONTH=3
TZNAME:CEST
END:DAYLIGHT
END:VTIMEZONE
BEGIN:VEVENT
UID:20260614T170000-766514@evangelische-termine.de
DTSTAMP:20260420T093914Z
DESCRIPTION:\nKurzbeschreibung: Werke von Bach\, Schütz und Mendelssohn\nPf
 arrperson oder Gottesdienstleitung: Pfarrer Ronny Hauske\nMitwirkende: Cap
 ella Cantorum Potsdam\, Orgel: Christian Deichstetter\, Leitung: Sonja Ehm
 endörfer\nVeranstaltungsort: Friedrichskirche Babelsberg\nam Weberplatz\n1
 4482 Potsdam-Babelsberg\nnähe S-Bahnhaltestelle Babelsberg\, Ausstieg vorn
 e\, weiter über Karl-Liebknecht-straße nach rechts\, dann rechts Lutherstr
 aße zur Friedrichskirche am Weberplatz in Babelsberg
DTSTART;TZID=Europe/Berlin:20260614T170000
DTEND;TZID=Europe/Berlin:20260614T180000
LOCATION:Potsdam-Babelsberg: Friedrichskirche Babelsberg
SUMMARY:Motettengottesdienst mit Capella Cantorum Potsdam
URL:https://www.ekbo-termine.de/veranstaltung_im_detail766514.html
END:VEVENT
END:VCALENDAR
