BEGIN:VCALENDAR
VERSION:2.0
PRODID:-//evangelische-termine.de//NONSGML kigkonsult.se iCalcreator 2.18//
CALSCALE:GREGORIAN
METHOD:PUBLISH
X-WR-CALNAME:iCal Evangelische-Termine 20.04.2026
X-WR-CALDESC:iCalender von Evangelische-Termine (20.04.2026)
X-WR-TIMEZONE:Europe/Berlin
X-MS-OLK-FORCEINSPECTOROPEN:TRUE
BEGIN:VTIMEZONE
TZID:Europe/Berlin
BEGIN:STANDARD
DTSTART:19701025T030000
TZOFFSETFROM:+0200
TZOFFSETTO:+0100
RRULE:FREQ=YEARLY;BYDAY=-1SU;BYMONTH=10
TZNAME:CET
END:STANDARD
BEGIN:DAYLIGHT
DTSTART:19700329T020000
TZOFFSETFROM:+0100
TZOFFSETTO:+0200
RRULE:FREQ=YEARLY;BYDAY=-1SU;BYMONTH=3
TZNAME:CEST
END:DAYLIGHT
END:VTIMEZONE
BEGIN:VEVENT
UID:20260607T100000-766215@evangelische-termine.de
DTSTAMP:20260420T162806Z
DESCRIPTION:\nKurzbeschreibung: mit Nordblech\nPfarrperson oder Gottesdiens
 tleitung: Team\nVeranstaltungsort: Heilandskirche Sacrow\nFährstraße 1\n14
 469 Potsdam\nVerkehrsverbindungen:\nÖPNV: Ab Berlin Mitte: Bahnhof Friedri
 chstraße\, Regio-Zug ab 8.36 Uhr jede Stunde mit Halt Bahnhof Zoo nach Spa
 ndau (18 Minuten Fahrzeit). Umsteigen in den Bus 134/135 bis Alt Kladow\, 
 Umsteigen in den Bus 697 Richtung Sacrow\, Haltestelle Schloss Sacrow\nAb 
 Potsdam Hauptbahnhof Bus 639 Richtung S+U Rathaus Spandau bis Neu Fahrland
 \, Heinrich-Heine-Weg. Umsteigen Bus 697 Richtung Neukladower Allee nach S
 acrow\, Haltestelle Schloss Sacrow. Ab Neukladower Allee (Berlin Spandau) 
 Bus 697 nach Sacrow\, Haltestelle Schloss Sacrow.\nMit dem PKW: Von Wannse
 e über die Glienicker Brücke Richtung Spandau (B2)\, Abzweig Sacrow.\nVon 
 Spandau (B2) Richtung Potsdam\, Abzweig Sacrow.\nAnsprechperson: Vanja Web
 er nordregion@evkirchepotsdam.de\n0331-5050974
DTSTART;TZID=Europe/Berlin:20260607T100000
DTEND;TZID=Europe/Berlin:20260607T110000
LOCATION:Potsdam: Heilandskirche Sacrow
SUMMARY:Tauffest in Sacrow
URL:https://www.ekbo-termine.de/veranstaltung_im_detail766215.html
END:VEVENT
END:VCALENDAR
