BEGIN:VCALENDAR
VERSION:2.0
PRODID:-//evangelische-termine.de//NONSGML kigkonsult.se iCalcreator 2.18//
CALSCALE:GREGORIAN
METHOD:PUBLISH
X-WR-CALNAME:iCal Evangelische-Termine 19.04.2026
X-WR-CALDESC:iCalender von Evangelische-Termine (19.04.2026)
X-WR-TIMEZONE:Europe/Berlin
X-MS-OLK-FORCEINSPECTOROPEN:TRUE
BEGIN:VTIMEZONE
TZID:Europe/Berlin
BEGIN:STANDARD
DTSTART:19701025T030000
TZOFFSETFROM:+0200
TZOFFSETTO:+0100
RRULE:FREQ=YEARLY;BYDAY=-1SU;BYMONTH=10
TZNAME:CET
END:STANDARD
BEGIN:DAYLIGHT
DTSTART:19700329T020000
TZOFFSETFROM:+0100
TZOFFSETTO:+0200
RRULE:FREQ=YEARLY;BYDAY=-1SU;BYMONTH=3
TZNAME:CEST
END:DAYLIGHT
END:VTIMEZONE
BEGIN:VEVENT
UID:20260510T170000-766211@evangelische-termine.de
DTSTAMP:20260419T161910Z
DESCRIPTION:\nPfarrperson oder Gottesdienstleitung: J. Schiesser\nVeranstal
 tungsort: Kirche Bornstedt\nRibbeckstraße 41\n14469 Potsdam\nOrganist:in: 
 Bojak\nInternetadresse: https://www.evangelisch-in-potsdam.de/gemeinden/bo
 rnstedt/taize-andachten\nAnsprechperson: Vanja Weber nordregion@evkirchepo
 tsdam.de\n0331-5050974
DTSTART;TZID=Europe/Berlin:20260510T170000
DTEND;TZID=Europe/Berlin:20260510T180000
LOCATION:Potsdam: Kirche Bornstedt
SUMMARY:Taizé-Andacht
URL:https://www.ekbo-termine.de/veranstaltung_im_detail766211.html
END:VEVENT
END:VCALENDAR
