BEGIN:VCALENDAR
VERSION:2.0
PRODID:-//evangelische-termine.de//NONSGML kigkonsult.se iCalcreator 2.18//
CALSCALE:GREGORIAN
METHOD:PUBLISH
X-WR-CALNAME:iCal Evangelische-Termine 20.04.2026
X-WR-CALDESC:iCalender von Evangelische-Termine (20.04.2026)
X-WR-TIMEZONE:Europe/Berlin
X-MS-OLK-FORCEINSPECTOROPEN:TRUE
BEGIN:VTIMEZONE
TZID:Europe/Berlin
BEGIN:STANDARD
DTSTART:19701025T030000
TZOFFSETFROM:+0200
TZOFFSETTO:+0100
RRULE:FREQ=YEARLY;BYDAY=-1SU;BYMONTH=10
TZNAME:CET
END:STANDARD
BEGIN:DAYLIGHT
DTSTART:19700329T020000
TZOFFSETFROM:+0100
TZOFFSETTO:+0200
RRULE:FREQ=YEARLY;BYDAY=-1SU;BYMONTH=3
TZNAME:CEST
END:DAYLIGHT
END:VTIMEZONE
BEGIN:VEVENT
UID:20260506T150000-764540@evangelische-termine.de
DTSTAMP:20260420T211615Z
DESCRIPTION:\nVeranstaltungsort: Gethsemanekirche Prenzlauer Berg\nStargard
 er Str. 77\n10437 Berlin\nS+U Schönhauser Allee\nWeitere Informationen/Bes
 ondere Hinweise: Björn Casapietra\, ein leidenschaftlicher Tenor mit beein
 druckender Stimme\, gibt Einblicke in sein Leben und seine musikalische Re
 ise. Mit seinem Programm „Himmelslieder 2.0“ spannt der Tenor einen Bogen 
 von der klassisch-geistlichen zur weltlichen Musik. Casapietras seit Jahre
 n von Publikum und Presse hoch gelobter Pianist ist auch diesmal wieder Pe
 ter Forster\, der den Startenor ausdrucksstark und einfühlsam begleitet.\n
 Musikalische Kategorie: Weltmusik\; Sonstiges\nAufgeführte Werke: Von der 
 klassisch-geistlichen bis zur weltlichen Musik\nMitwirkende/Interpret(en):
  Tenor: Björn Casapietra\, Pianist: Peter Forster\nEintritt: EUR 20\,00 – 
 35\,00 / Ticket-Hotline 030 403 66 28 00\nInternetadresse: https://volksso
 lidaritaet-berlin.de/termine
DTSTART;TZID=Europe/Berlin:20260506T150000
DTEND;TZID=Europe/Berlin:20260506T160000
LOCATION:Berlin: Gethsemanekirche Prenzlauer Berg
SUMMARY:Björn Casapietra - 'Die schönsten Himmelslieder 2.0'
URL:https://www.ekbo-termine.de/veranstaltung_im_detail764540.html
END:VEVENT
END:VCALENDAR
