BEGIN:VCALENDAR
VERSION:2.0
PRODID:-//evangelische-termine.de//NONSGML kigkonsult.se iCalcreator 2.18//
CALSCALE:GREGORIAN
METHOD:PUBLISH
X-WR-CALNAME:iCal Evangelische-Termine 24.04.2026
X-WR-CALDESC:iCalender von Evangelische-Termine (24.04.2026)
X-WR-TIMEZONE:Europe/Berlin
X-MS-OLK-FORCEINSPECTOROPEN:TRUE
BEGIN:VTIMEZONE
TZID:Europe/Berlin
BEGIN:STANDARD
DTSTART:19701025T030000
TZOFFSETFROM:+0200
TZOFFSETTO:+0100
RRULE:FREQ=YEARLY;BYDAY=-1SU;BYMONTH=10
TZNAME:CET
END:STANDARD
BEGIN:DAYLIGHT
DTSTART:19700329T020000
TZOFFSETFROM:+0100
TZOFFSETTO:+0200
RRULE:FREQ=YEARLY;BYDAY=-1SU;BYMONTH=3
TZNAME:CEST
END:DAYLIGHT
END:VTIMEZONE
BEGIN:VEVENT
UID:20260424T180000-764021@evangelische-termine.de
DTSTAMP:20260424T054402Z
DESCRIPTION:\nKurzbeschreibung: Vernissage einer Gemeinschaftsausstellung m
 it vielen Kunstschaffenden der Lausitz\nVeranstaltungsort: Stadtkirche Ruh
 land\nKirchplatz 2\n01945 Ruhland\nWeitere Informationen/Besondere Hinweis
 e: Die Ausstellung ist vom 24.4. bis 15.09. in der offenen Kirche Ruhland 
 ( etwa 9 bis 18 Uhr) zu sehen
DTSTART;TZID=Europe/Berlin:20260424T180000
DTEND;TZID=Europe/Berlin:20260424T200000
LOCATION:Ruhland: Stadtkirche Ruhland
SUMMARY:Alles fließt- Dauer im Wandel
URL:https://www.ekbo-termine.de/veranstaltung_im_detail764021.html
END:VEVENT
END:VCALENDAR
