BEGIN:VCALENDAR
VERSION:2.0
PRODID:-//evangelische-termine.de//NONSGML kigkonsult.se iCalcreator 2.18//
CALSCALE:GREGORIAN
METHOD:PUBLISH
X-WR-CALNAME:iCal Evangelische-Termine 24.04.2026
X-WR-CALDESC:iCalender von Evangelische-Termine (24.04.2026)
X-WR-TIMEZONE:Europe/Berlin
X-MS-OLK-FORCEINSPECTOROPEN:TRUE
BEGIN:VTIMEZONE
TZID:Europe/Berlin
BEGIN:STANDARD
DTSTART:19701025T030000
TZOFFSETFROM:+0200
TZOFFSETTO:+0100
RRULE:FREQ=YEARLY;BYDAY=-1SU;BYMONTH=10
TZNAME:CET
END:STANDARD
BEGIN:DAYLIGHT
DTSTART:19700329T020000
TZOFFSETFROM:+0100
TZOFFSETTO:+0200
RRULE:FREQ=YEARLY;BYDAY=-1SU;BYMONTH=3
TZNAME:CEST
END:DAYLIGHT
END:VTIMEZONE
BEGIN:VEVENT
UID:20260514T163000-764020@evangelische-termine.de
DTSTAMP:20260424T053409Z
DESCRIPTION:\nVeranstaltungsort: Schlosskapelle Guteborn\nParkweg\n01945 Gu
 teborn\nEintritt: frei\, Kollekte erbeten\nAnsprechperson: Sanko Ogon kirc
 henmusikundsport@gmail.com
DTSTART;TZID=Europe/Berlin:20260514T163000
DTEND;TZID=Europe/Berlin:20260514T180000
LOCATION:Guteborn: Schlosskapelle Guteborn
SUMMARY:Himmelfahrtskonzert mit Marimbaphon und Klarinette
URL:https://www.ekbo-termine.de/veranstaltung_im_detail764020.html
END:VEVENT
END:VCALENDAR
