BEGIN:VCALENDAR
VERSION:2.0
PRODID:-//evangelische-termine.de//NONSGML kigkonsult.se iCalcreator 2.18//
CALSCALE:GREGORIAN
METHOD:PUBLISH
X-WR-CALNAME:iCal Evangelische-Termine 20.04.2026
X-WR-CALDESC:iCalender von Evangelische-Termine (20.04.2026)
X-WR-TIMEZONE:Europe/Berlin
X-MS-OLK-FORCEINSPECTOROPEN:TRUE
BEGIN:VTIMEZONE
TZID:Europe/Berlin
BEGIN:STANDARD
DTSTART:19701025T030000
TZOFFSETFROM:+0200
TZOFFSETTO:+0100
RRULE:FREQ=YEARLY;BYDAY=-1SU;BYMONTH=10
TZNAME:CET
END:STANDARD
BEGIN:DAYLIGHT
DTSTART:19700329T020000
TZOFFSETFROM:+0100
TZOFFSETTO:+0200
RRULE:FREQ=YEARLY;BYDAY=-1SU;BYMONTH=3
TZNAME:CEST
END:DAYLIGHT
END:VTIMEZONE
BEGIN:VEVENT
UID:20260619T180000-763780@evangelische-termine.de
DTSTAMP:20260420T095455Z
DESCRIPTION:\nKurzbeschreibung: Gemeinsames Volksliedersingen unter der Lin
 de am Ortsausgang Grube\, bei schlechtem Wetter in der Kirche\nVeranstaltu
 ngsort: Linde am Ortsausgang Grube\nSchlänitzseer Weg\n14469 Potsdam
DTSTART;TZID=Europe/Berlin:20260619T180000
DTEND;TZID=Europe/Berlin:20260619T190000
LOCATION:Potsdam: Linde am Ortsausgang Grube
SUMMARY:Singen unter der Linde
URL:https://www.ekbo-termine.de/veranstaltung_im_detail763780.html
END:VEVENT
END:VCALENDAR
