BEGIN:VCALENDAR
VERSION:2.0
PRODID:-//evangelische-termine.de//NONSGML kigkonsult.se iCalcreator 2.18//
CALSCALE:GREGORIAN
METHOD:PUBLISH
X-WR-CALNAME:iCal Evangelische-Termine 20.04.2026
X-WR-CALDESC:iCalender von Evangelische-Termine (20.04.2026)
X-WR-TIMEZONE:Europe/Berlin
X-MS-OLK-FORCEINSPECTOROPEN:TRUE
BEGIN:VTIMEZONE
TZID:Europe/Berlin
BEGIN:STANDARD
DTSTART:19701025T030000
TZOFFSETFROM:+0200
TZOFFSETTO:+0100
RRULE:FREQ=YEARLY;BYDAY=-1SU;BYMONTH=10
TZNAME:CET
END:STANDARD
BEGIN:DAYLIGHT
DTSTART:19700329T020000
TZOFFSETFROM:+0100
TZOFFSETTO:+0200
RRULE:FREQ=YEARLY;BYDAY=-1SU;BYMONTH=3
TZNAME:CEST
END:DAYLIGHT
END:VTIMEZONE
BEGIN:VEVENT
UID:20260607T170000-761317@evangelische-termine.de
DTSTAMP:20260420T161617Z
DESCRIPTION:\nVeranstaltungsort: Ev. Kirche Am Lietzensee Charlottenburg\nH
 erbartstr. 4-6\n14057 Berlin\nS Messe-Nord/ICC\; Bus X34\, M49\, 139\nMusi
 ker: Europäisches Hanse-Ensemble\nManfred Cordes | Leitung\nBeschreibung: 
 Das Hohelied Salmonis mit Werken aus Rostock\, Stralsund\, Stettin\, Danzi
 g und Königsberg\n\nTeil der TITANS RISING Konzertreihe für Alte Musik\nEn
 tritt frei\, Spenden willkommen\nhttps://titansrising.de\nmusikalische Kat
 egorie: Chormusik\; Bläsermusik\; Orchester / Ensembles\; Alte Musik / His
 torische Aufführungspraxis\; Kammermusik
DTSTART;TZID=Europe/Berlin:20260607T170000
DTEND;TZID=Europe/Berlin:20260607T181500
LOCATION:Berlin: Ev. Kirche Am Lietzensee Charlottenburg
SUMMARY:CANTICUM – Musik aus den alten Hansestädten
URL:https://www.ekbo-termine.de/veranstaltung_im_detail761317.html
END:VEVENT
END:VCALENDAR
