BEGIN:VCALENDAR
VERSION:2.0
PRODID:-//evangelische-termine.de//NONSGML kigkonsult.se iCalcreator 2.18//
CALSCALE:GREGORIAN
METHOD:PUBLISH
X-WR-CALNAME:iCal Evangelische-Termine 24.04.2026
X-WR-CALDESC:iCalender von Evangelische-Termine (24.04.2026)
X-WR-TIMEZONE:Europe/Berlin
X-MS-OLK-FORCEINSPECTOROPEN:TRUE
BEGIN:VTIMEZONE
TZID:Europe/Berlin
BEGIN:STANDARD
DTSTART:19701025T030000
TZOFFSETFROM:+0200
TZOFFSETTO:+0100
RRULE:FREQ=YEARLY;BYDAY=-1SU;BYMONTH=10
TZNAME:CET
END:STANDARD
BEGIN:DAYLIGHT
DTSTART:19700329T020000
TZOFFSETFROM:+0100
TZOFFSETTO:+0200
RRULE:FREQ=YEARLY;BYDAY=-1SU;BYMONTH=3
TZNAME:CEST
END:DAYLIGHT
END:VTIMEZONE
BEGIN:VEVENT
UID:20260425T180000-760561@evangelische-termine.de
DTSTAMP:20260424T091635Z
DESCRIPTION:\nKurzbeschreibung: Abendgebet vor dem Hohen Chor\nVeranstaltun
 gsort: St. Marienkirche Mitte\nKarl-Liebknecht-Str. 8\n10178 Berlin\nU+S A
 lexanderplatz\nWeitere Informationen/Besondere Hinweise: Dieses geistliche
  Format nimmt die Welt ins Gebet mit ihren Pflanzen\, Tieren und Menschen.
  Im Jahr des 800. Todestages von Franz von Assisi werden Natur und Spiritu
 alität auf besondere Weise miteinander verbunden. Tanken Sie Kraft für den
  Traum von einer besseren Welt.\nMitwirkende/Interpret(en): Mit Pfarrer Mi
 chael Kösling und Marienorganist Xaver Schult und Sabine Kaselow (Oboe d’a
 more)
DTSTART;TZID=Europe/Berlin:20260425T180000
DTEND;TZID=Europe/Berlin:20260425T190000
LOCATION:Berlin: St. Marienkirche Mitte
SUMMARY:KrafTraum. Leben in einer verwundeten Welt
URL:https://www.ekbo-termine.de/veranstaltung_im_detail760561.html
END:VEVENT
END:VCALENDAR
