BEGIN:VCALENDAR
VERSION:2.0
PRODID:-//evangelische-termine.de//NONSGML kigkonsult.se iCalcreator 2.18//
CALSCALE:GREGORIAN
METHOD:PUBLISH
X-WR-CALNAME:iCal Evangelische-Termine 20.04.2026
X-WR-CALDESC:iCalender von Evangelische-Termine (20.04.2026)
X-WR-TIMEZONE:Europe/Berlin
X-MS-OLK-FORCEINSPECTOROPEN:TRUE
BEGIN:VTIMEZONE
TZID:Europe/Berlin
BEGIN:STANDARD
DTSTART:19701025T030000
TZOFFSETFROM:+0200
TZOFFSETTO:+0100
RRULE:FREQ=YEARLY;BYDAY=-1SU;BYMONTH=10
TZNAME:CET
END:STANDARD
BEGIN:DAYLIGHT
DTSTART:19700329T020000
TZOFFSETFROM:+0100
TZOFFSETTO:+0200
RRULE:FREQ=YEARLY;BYDAY=-1SU;BYMONTH=3
TZNAME:CEST
END:DAYLIGHT
END:VTIMEZONE
BEGIN:VEVENT
UID:20260621T180000-760109@evangelische-termine.de
DTSTAMP:20260420T142759Z
DESCRIPTION:\nKurzbeschreibung: Singender Turm - Arrangements für Vokalmusi
 k und vom Gesang inspirierte Glockenspielmusik\nVeranstaltungsort: Parochi
 alkirche Mitte\nKlosterstr. 67\n10179 Berlin\nU-Bhf. Klosterstraße\nS/U-Bh
 f. Alexanderplatz\nU-Bhf. Jannowitzbrücke\nWeitere Informationen/Besondere
  Hinweise: Am 24. oder 26. Juni 2026: Veröffentlichung der Manuskripte des
  Glockenspiels der Parochialkirche im Internet auf der Website alamirefoun
 dation.org sowie während des Weltkongresses für Glockenspiel in Mafra (Por
 tugal). Parallel dazu kann man ab diesem Tag die Musik aus diesen Manuskri
 pten auf dem automatischen Glockenspiel in der Parochialkirche hören.\nMus
 ikalische Kategorie: Neue Musik / Avantgarde\; Gospel / Popmusik / Jazz\; 
 Weltmusik\; Sonstiges\nAufgeführte Werke: Werke von Mendelssohn\, Bach\, L
 epany\nMitwirkende/Interpret(en): Anna Kasprzycka  (Carillon)\nEintritt: E
 intritt frei
DTSTART;TZID=Europe/Berlin:20260621T180000
DTEND;TZID=Europe/Berlin:20260621T190000
LOCATION:Berlin: Parochialkirche Mitte
SUMMARY:Glockenspielmusik  im Rahmen der Fête de la Musique
URL:https://www.ekbo-termine.de/veranstaltung_im_detail760109.html
END:VEVENT
END:VCALENDAR
