BEGIN:VCALENDAR
VERSION:2.0
PRODID:-//evangelische-termine.de//NONSGML kigkonsult.se iCalcreator 2.18//
CALSCALE:GREGORIAN
METHOD:PUBLISH
X-WR-CALNAME:iCal Evangelische-Termine 20.04.2026
X-WR-CALDESC:iCalender von Evangelische-Termine (20.04.2026)
X-WR-TIMEZONE:Europe/Berlin
X-MS-OLK-FORCEINSPECTOROPEN:TRUE
BEGIN:VTIMEZONE
TZID:Europe/Berlin
BEGIN:STANDARD
DTSTART:19701025T030000
TZOFFSETFROM:+0200
TZOFFSETTO:+0100
RRULE:FREQ=YEARLY;BYDAY=-1SU;BYMONTH=10
TZNAME:CET
END:STANDARD
BEGIN:DAYLIGHT
DTSTART:19700329T020000
TZOFFSETFROM:+0100
TZOFFSETTO:+0200
RRULE:FREQ=YEARLY;BYDAY=-1SU;BYMONTH=3
TZNAME:CEST
END:DAYLIGHT
END:VTIMEZONE
BEGIN:VEVENT
UID:20260613T093000-755965@evangelische-termine.de
DTSTAMP:20260420T162627Z
DESCRIPTION:\nVeranstaltungsort: Gemeindezentrum Pfingst\nGroße Weinmeister
 straße 49 A\n14469 Potsdam\nIm Gebäuder 49 A befinden sich das Gemeindebür
 o\, das Pfarrbüro\, das Gemeindezentrum mit 3 separaten Räumen und der Jug
 endkeller unter dem Gemeindebüro\nInternetadresse: https://www.evangelisch
 -in-potsdam.de/fileadmin/sites/kirchenkreis-potsdam.de/Gemeinden/Pfingst/D
 ateien/Tag_in_Stille_26.pdf\nAnsprechperson: Angelika Behm angelika.behm@g
 emeinsam.ekbo.de\n0331 95124343\n: Gemeindezentrum Pfingst
DTSTART;TZID=Europe/Berlin:20260613T093000
DTEND;TZID=Europe/Berlin:20260613T170000
LOCATION:Potsdam: Gemeindezentrum Pfingst
SUMMARY:Ein Tag in Stille
URL:https://www.ekbo-termine.de/veranstaltung_im_detail755965.html
END:VEVENT
END:VCALENDAR
