BEGIN:VCALENDAR
VERSION:2.0
PRODID:-//evangelische-termine.de//NONSGML kigkonsult.se iCalcreator 2.18//
CALSCALE:GREGORIAN
METHOD:PUBLISH
X-WR-CALNAME:iCal Evangelische-Termine 19.04.2026
X-WR-CALDESC:iCalender von Evangelische-Termine (19.04.2026)
X-WR-TIMEZONE:Europe/Berlin
X-MS-OLK-FORCEINSPECTOROPEN:TRUE
BEGIN:VTIMEZONE
TZID:Europe/Berlin
BEGIN:STANDARD
DTSTART:19701025T030000
TZOFFSETFROM:+0200
TZOFFSETTO:+0100
RRULE:FREQ=YEARLY;BYDAY=-1SU;BYMONTH=10
TZNAME:CET
END:STANDARD
BEGIN:DAYLIGHT
DTSTART:19700329T020000
TZOFFSETFROM:+0100
TZOFFSETTO:+0200
RRULE:FREQ=YEARLY;BYDAY=-1SU;BYMONTH=3
TZNAME:CEST
END:DAYLIGHT
END:VTIMEZONE
BEGIN:VEVENT
UID:20260514T110000-755140@evangelische-termine.de
DTSTAMP:20260419T164014Z
DESCRIPTION:\nPfarrperson oder Gottesdienstleitung: Pfrn. Elisabeth von Gol
 dbeck\, Pfr. Ronny Hauske\, Pfrn. Elke Gerstel\nVeranstaltungsort: Wiese a
 n der Alten Neuendorfer Kirche\nNeuendorfer Anger 1\n14482 Potsdam
DTSTART;TZID=Europe/Berlin:20260514T110000
DTEND;TZID=Europe/Berlin:20260514T120000
LOCATION:Potsdam: Wiese an der Alten Neuendorfer Kirche
SUMMARY:Gottesdienst am Himmelfahrtstag
URL:https://www.ekbo-termine.de/veranstaltung_im_detail755140.html
END:VEVENT
END:VCALENDAR
