BEGIN:VCALENDAR
VERSION:2.0
PRODID:-//evangelische-termine.de//NONSGML kigkonsult.se iCalcreator 2.18//
CALSCALE:GREGORIAN
METHOD:PUBLISH
X-WR-CALNAME:iCal Evangelische-Termine 24.04.2026
X-WR-CALDESC:iCalender von Evangelische-Termine (24.04.2026)
X-WR-TIMEZONE:Europe/Berlin
X-MS-OLK-FORCEINSPECTOROPEN:TRUE
BEGIN:VTIMEZONE
TZID:Europe/Berlin
BEGIN:STANDARD
DTSTART:19701025T030000
TZOFFSETFROM:+0200
TZOFFSETTO:+0100
RRULE:FREQ=YEARLY;BYDAY=-1SU;BYMONTH=10
TZNAME:CET
END:STANDARD
BEGIN:DAYLIGHT
DTSTART:19700329T020000
TZOFFSETFROM:+0100
TZOFFSETTO:+0200
RRULE:FREQ=YEARLY;BYDAY=-1SU;BYMONTH=3
TZNAME:CEST
END:DAYLIGHT
END:VTIMEZONE
BEGIN:VEVENT
UID:20260503T140000-752938@evangelische-termine.de
DTSTAMP:20260424T091723Z
DESCRIPTION:\nVeranstaltungsort: St. Marienkirche Mitte\nKarl-Liebknecht-St
 r. 8\n10178 Berlin\nU+S Alexanderplatz\nKurzbeschreibung / Untertitel: Ein
 e Führung von CrossRoads\, Kirchenführer: Jörg Jungmayr\nAusführliche Besc
 hreibung: In den unzähligen wertvollen Gemälden der St. Marienkirche finde
 n wir unglaublich viele Tierdarstellungen. Diese sind nicht nur schmückend
 e Elemente\, sondern tragen eine tiefe christliche Bildsymbolik in sich. S
 o ist zum Beispiel ein dargestellter Hirsch häufig ein Verweis auf Psalm 4
 2\, Vers 2: „Wie der Hirsch lechzt nach frischem Wasser\, so lechzt meine 
 Seele\, Gott\, nach dir“. In dieser Führung beschäftigen wir uns mit ausge
 wählten Tierdarstellungen in Kunstwerken der St. Marienkirche und schicken
  Sie auch selbst auf Entdeckungstour!\nDa die Teilnehmerzahl begrenzt ist\
 , bitten wir um Anmeldung unter: \nhttps://crossroads-berlin.com/event/tie
 rsymbolik-in-der-st-marienkirche/\nEintritt: 14€ \nTreffpunkt: am Bücherti
 sch in der St. Marienkirche\nInternetadresse: https://www.crossroads-berli
 n.com
DTSTART;TZID=Europe/Berlin:20260503T140000
DTEND;TZID=Europe/Berlin:20260503T150000
LOCATION:Berlin: St. Marienkirche Mitte
SUMMARY:Paradiesvögel und Höllengeschöpfe - Tiersymbolik in Bildern
URL:https://www.ekbo-termine.de/veranstaltung_im_detail752938.html
END:VEVENT
END:VCALENDAR
