BEGIN:VCALENDAR
VERSION:2.0
PRODID:-//evangelische-termine.de//NONSGML kigkonsult.se iCalcreator 2.18//
CALSCALE:GREGORIAN
METHOD:PUBLISH
X-WR-CALNAME:iCal Evangelische-Termine 19.04.2026
X-WR-CALDESC:iCalender von Evangelische-Termine (19.04.2026)
X-WR-TIMEZONE:Europe/Berlin
X-MS-OLK-FORCEINSPECTOROPEN:TRUE
BEGIN:VTIMEZONE
TZID:Europe/Berlin
BEGIN:STANDARD
DTSTART:19701025T030000
TZOFFSETFROM:+0200
TZOFFSETTO:+0100
RRULE:FREQ=YEARLY;BYDAY=-1SU;BYMONTH=10
TZNAME:CET
END:STANDARD
BEGIN:DAYLIGHT
DTSTART:19700329T020000
TZOFFSETFROM:+0100
TZOFFSETTO:+0200
RRULE:FREQ=YEARLY;BYDAY=-1SU;BYMONTH=3
TZNAME:CEST
END:DAYLIGHT
END:VTIMEZONE
BEGIN:VEVENT
UID:20260528T190000-751625@evangelische-termine.de
DTSTAMP:20260419T151532Z
DESCRIPTION:\nKurzbeschreibung: Singabend anlässlich des 350. Todestages vo
 n Paul Gerhardt\nVeranstaltungsort: Rondell vor der Erlöserkirche\nWeinhüb
 ler Str. 18\n02827 Görlitz
DTSTART;TZID=Europe/Berlin:20260528T190000
DTEND;TZID=Europe/Berlin:20260528T200000
LOCATION:Görlitz: Rondell vor der Erlöserkirche
SUMMARY:Donnerstag ist Kirchentag - Randlage mit Aussicht
URL:https://www.ekbo-termine.de/veranstaltung_im_detail751625.html
END:VEVENT
END:VCALENDAR
