BEGIN:VCALENDAR
VERSION:2.0
PRODID:-//evangelische-termine.de//NONSGML kigkonsult.se iCalcreator 2.18//
CALSCALE:GREGORIAN
METHOD:PUBLISH
X-WR-CALNAME:iCal Evangelische-Termine 19.04.2026
X-WR-CALDESC:iCalender von Evangelische-Termine (19.04.2026)
X-WR-TIMEZONE:Europe/Berlin
X-MS-OLK-FORCEINSPECTOROPEN:TRUE
BEGIN:VTIMEZONE
TZID:Europe/Berlin
BEGIN:STANDARD
DTSTART:19701025T030000
TZOFFSETFROM:+0200
TZOFFSETTO:+0100
RRULE:FREQ=YEARLY;BYDAY=-1SU;BYMONTH=10
TZNAME:CET
END:STANDARD
BEGIN:DAYLIGHT
DTSTART:19700329T020000
TZOFFSETFROM:+0100
TZOFFSETTO:+0200
RRULE:FREQ=YEARLY;BYDAY=-1SU;BYMONTH=3
TZNAME:CEST
END:DAYLIGHT
END:VTIMEZONE
BEGIN:VEVENT
UID:20260510T140000-751622@evangelische-termine.de
DTSTAMP:20260419T151224Z
DESCRIPTION:\nKurzbeschreibung: Orgelmusik mit anschließender Kirchenführun
 g und Saisoneröffnung im Haus am See\nVeranstaltungsort: Dorfkirche Tauchr
 itz\nKirchplatz 19\n02827 Görlitz OT Tauchritz\nMitwirkende/Interpret(en):
  an der Orgel: Juliane Herrmann\nKirchenführung: Dr. Constanze Herrmenn
DTSTART;TZID=Europe/Berlin:20260510T140000
DTEND;TZID=Europe/Berlin:20260510T150000
LOCATION:Görlitz OT Tauchritz: Dorfkirche Tauchritz
SUMMARY:Oberlausitzer Orgelsommer - Saisoneröffnung im Haus am See
URL:https://www.ekbo-termine.de/veranstaltung_im_detail751622.html
END:VEVENT
END:VCALENDAR
