BEGIN:VCALENDAR
VERSION:2.0
PRODID:-//evangelische-termine.de//NONSGML kigkonsult.se iCalcreator 2.18//
CALSCALE:GREGORIAN
METHOD:PUBLISH
X-WR-CALNAME:iCal Evangelische-Termine 24.04.2026
X-WR-CALDESC:iCalender von Evangelische-Termine (24.04.2026)
X-WR-TIMEZONE:Europe/Berlin
X-MS-OLK-FORCEINSPECTOROPEN:TRUE
BEGIN:VTIMEZONE
TZID:Europe/Berlin
BEGIN:STANDARD
DTSTART:19701025T030000
TZOFFSETFROM:+0200
TZOFFSETTO:+0100
RRULE:FREQ=YEARLY;BYDAY=-1SU;BYMONTH=10
TZNAME:CET
END:STANDARD
BEGIN:DAYLIGHT
DTSTART:19700329T020000
TZOFFSETFROM:+0100
TZOFFSETTO:+0200
RRULE:FREQ=YEARLY;BYDAY=-1SU;BYMONTH=3
TZNAME:CEST
END:DAYLIGHT
END:VTIMEZONE
BEGIN:VEVENT
UID:20260504T193000-748987@evangelische-termine.de
DTSTAMP:20260424T091722Z
DESCRIPTION:\nVeranstaltungsort: Schleiermacherhaus\nTaubenstr. 3\n10117 Be
 rlin\nWeitere Informationen/Besondere Hinweise: Kein geringerer als Mark T
 wain hat die Aufzeichnungen der ersten Menschen aufgespürt und übersetzt. 
 Das jedenfalls versichert der Autor. Und schon gibt es vieles zu erfahren:
  Wie paradiesisch war das Paradies? War es bei Adam und Eva Liebe auf den 
 ersten Blick? Und überhaupt\, wer war eigentlich am Sündenfall schuld? Aug
 enzwinkernd entführt uns Mark Twain in die Wiege der Menschheit.\nMusikali
 sche Kategorie: Musikalisch-Szenisches\; Kammermusik\nMitwirkende/Interpre
 t(en): Mit Gundula - Eva - Köster\, Thomas - Adam - Fedrowitz\, von Ute Fa
 lkenau am Klavier begleitet.\nGastgeber: Pfarrer Dr. Alexander Arno Heck\n
 Ansprechperson: Pfarrer Dr. Alexander Arno Heck alexander.heck@marienkirch
 e-berlin.de
DTSTART;TZID=Europe/Berlin:20260504T193000
DTEND;TZID=Europe/Berlin:20260504T203000
LOCATION:Berlin: Schleiermacherhaus
SUMMARY:Salon bei Schleiermacher: 'Aus den Tagebüchern von Adam und Eva'
URL:https://www.ekbo-termine.de/veranstaltung_im_detail748987.html
END:VEVENT
END:VCALENDAR
