BEGIN:VCALENDAR
VERSION:2.0
PRODID:-//evangelische-termine.de//NONSGML kigkonsult.se iCalcreator 2.18//
CALSCALE:GREGORIAN
METHOD:PUBLISH
X-WR-CALNAME:iCal Evangelische-Termine 24.04.2026
X-WR-CALDESC:iCalender von Evangelische-Termine (24.04.2026)
X-WR-TIMEZONE:Europe/Berlin
X-MS-OLK-FORCEINSPECTOROPEN:TRUE
BEGIN:VTIMEZONE
TZID:Europe/Berlin
BEGIN:STANDARD
DTSTART:19701025T030000
TZOFFSETFROM:+0200
TZOFFSETTO:+0100
RRULE:FREQ=YEARLY;BYDAY=-1SU;BYMONTH=10
TZNAME:CET
END:STANDARD
BEGIN:DAYLIGHT
DTSTART:19700329T020000
TZOFFSETFROM:+0100
TZOFFSETTO:+0200
RRULE:FREQ=YEARLY;BYDAY=-1SU;BYMONTH=3
TZNAME:CEST
END:DAYLIGHT
END:VTIMEZONE
BEGIN:VEVENT
UID:20260428T180000-748952@evangelische-termine.de
DTSTAMP:20260424T091642Z
DESCRIPTION:\nVeranstaltungsort: St. Marienkirche Mitte\nKarl-Liebknecht-St
 r. 8\n10178 Berlin\nU+S Alexanderplatz\nWeitere Informationen/Besondere Hi
 nweise: Treffpunkt am Büchertisch in der Marienkirche\nAufgeführte Werke: 
 Aus Anlass des 800. Todestages des Franziskus von Assisi: Führung zur Dars
 tellung der Franziskaner in der Kunstsammlung St. Marien. Neben Franziskus
  selbst lernen Sie das Who’s Who des Franziskanerordens kennen und erfahre
 n einiges aus ihrem Leben. Und wir werden der Frage nachgehen\, warum ausg
 erechnet ein Franziskaner den Berliner Totentanz anführt.\nEintritt: Eintr
 itt frei\, Spenden erwünscht\nAnsprechperson: Olaf Albrecht olaf.albrecht@
 gmx.com
DTSTART;TZID=Europe/Berlin:20260428T180000
DTEND;TZID=Europe/Berlin:20260428T190000
LOCATION:Berlin: St. Marienkirche Mitte
SUMMARY:Kirchenführung mit Olaf Albrecht :: Sonderführung: “Die Franziskane
 r in St. Marien”
URL:https://www.ekbo-termine.de/veranstaltung_im_detail748952.html
END:VEVENT
END:VCALENDAR
