BEGIN:VCALENDAR
VERSION:2.0
PRODID:-//evangelische-termine.de//NONSGML kigkonsult.se iCalcreator 2.18//
CALSCALE:GREGORIAN
METHOD:PUBLISH
X-WR-CALNAME:iCal Evangelische-Termine 20.04.2026
X-WR-CALDESC:iCalender von Evangelische-Termine (20.04.2026)
X-WR-TIMEZONE:Europe/Berlin
X-MS-OLK-FORCEINSPECTOROPEN:TRUE
BEGIN:VTIMEZONE
TZID:Europe/Berlin
BEGIN:STANDARD
DTSTART:19701025T030000
TZOFFSETFROM:+0200
TZOFFSETTO:+0100
RRULE:FREQ=YEARLY;BYDAY=-1SU;BYMONTH=10
TZNAME:CET
END:STANDARD
BEGIN:DAYLIGHT
DTSTART:19700329T020000
TZOFFSETFROM:+0100
TZOFFSETTO:+0200
RRULE:FREQ=YEARLY;BYDAY=-1SU;BYMONTH=3
TZNAME:CEST
END:DAYLIGHT
END:VTIMEZONE
BEGIN:VEVENT
UID:20260619T000000-748222@evangelische-termine.de
DTSTAMP:20260420T094000Z
DESCRIPTION:\nKurzbeschreibung: ab 14 Jahren  Als Evangelische Jugend gemei
 nsam zum Landesjugendcamp in Hirschluch\nVeranstaltungsort: Evangelische J
 ugend- und Bildungsstätte Hirschluch\nHirschluch\n15859 Storkow\nWeitere I
 nformationen/Besondere Hinweise: Unter dem Motto 🏝️Neuland lädt die EJBO v
 om Fr\, 19. bis So\, 21.Juni 2026\nnach Hirschluch zum ⛺Landesjugendcamp e
 in! Und zwar zum Feiern\, Diskutieren\, Spielen\, Chillen und zum Austausc
 h mit Jugendlichen aus der 📍ganzen Landeskirche. \n\nAm Freitag startet da
 s Camp mit mehreren hundert Teilnehmenden. \nAm Samstag erwarten euch ein 
 großer Jugendgottesdienst\, Workshops\, Aufführungen\, Sport- und Kreativa
 ngebote\, Diskussionen\, die Konfi-Oase und viele weitere Aktionen. Ab 14 
 Jahren\, Teilnahmebeitrag ist 60€\, mit dem Frühbucherrabatt nur 50€.\nEin
 tritt: 60€ (50€ Frühbucher*inpreis)\nAnsprechperson: Johannetta Cornell un
 d Friedan Holzki ev-juks@evkirchepotsdam.de
DTSTART;VALUE=DATE:20260619
DTEND;VALUE=DATE:20260622
LOCATION:Storkow: Evangelische Jugend- und Bildungsstätte Hirschluch
SUMMARY:Landesjugendcamp der EJBO
URL:https://www.ekbo-termine.de/veranstaltung_im_detail748222.html
END:VEVENT
END:VCALENDAR
