BEGIN:VCALENDAR
VERSION:2.0
PRODID:-//evangelische-termine.de//NONSGML kigkonsult.se iCalcreator 2.18//
CALSCALE:GREGORIAN
METHOD:PUBLISH
X-WR-CALNAME:iCal Evangelische-Termine 24.04.2026
X-WR-CALDESC:iCalender von Evangelische-Termine (24.04.2026)
X-WR-TIMEZONE:Europe/Berlin
X-MS-OLK-FORCEINSPECTOROPEN:TRUE
BEGIN:VTIMEZONE
TZID:Europe/Berlin
BEGIN:STANDARD
DTSTART:19701025T030000
TZOFFSETFROM:+0200
TZOFFSETTO:+0100
RRULE:FREQ=YEARLY;BYDAY=-1SU;BYMONTH=10
TZNAME:CET
END:STANDARD
BEGIN:DAYLIGHT
DTSTART:19700329T020000
TZOFFSETFROM:+0100
TZOFFSETTO:+0200
RRULE:FREQ=YEARLY;BYDAY=-1SU;BYMONTH=3
TZNAME:CEST
END:DAYLIGHT
END:VTIMEZONE
BEGIN:VEVENT
UID:20260502T180000-747333@evangelische-termine.de
DTSTAMP:20260424T052314Z
DESCRIPTION:\nVeranstaltungsort: St. Johanniskirche Reichenbach\nKirchplatz
  1\n02894 Reichenbach/OL\nOffene Kirche\ntäglich von 14-18 Uhr zur persönl
 ichen Andacht und als Ort der innern Einkehr und Ruhe\nWeitere Information
 en/Besondere Hinweise: Thema: 'Komm in unsre stolze Welt\, Herr mit Deiner
  Liebe werben' aus EG 428 - Manfred Schlenker.\nMusikalische Kategorie: Or
 gelmusik\nAufgeführte Werke: Werke von Felix Mendelsohn-Bartholdy\, J.S. B
 ach\, u.A\nMitwirkende/Interpret(en): KMD Christian Kühne\, Löbau
DTSTART;TZID=Europe/Berlin:20260502T180000
DTEND;TZID=Europe/Berlin:20260502T190000
LOCATION:Reichenbach/OL: St. Johanniskirche Reichenbach
SUMMARY:Eröffnungskonzert - Oberlausitzer Orgelsommer
URL:https://www.ekbo-termine.de/veranstaltung_im_detail747333.html
END:VEVENT
END:VCALENDAR
