BEGIN:VCALENDAR
VERSION:2.0
PRODID:-//evangelische-termine.de//NONSGML kigkonsult.se iCalcreator 2.18//
CALSCALE:GREGORIAN
METHOD:PUBLISH
X-WR-CALNAME:iCal Evangelische-Termine 20.04.2026
X-WR-CALDESC:iCalender von Evangelische-Termine (20.04.2026)
X-WR-TIMEZONE:Europe/Berlin
X-MS-OLK-FORCEINSPECTOROPEN:TRUE
BEGIN:VTIMEZONE
TZID:Europe/Berlin
BEGIN:STANDARD
DTSTART:19701025T030000
TZOFFSETFROM:+0200
TZOFFSETTO:+0100
RRULE:FREQ=YEARLY;BYDAY=-1SU;BYMONTH=10
TZNAME:CET
END:STANDARD
BEGIN:DAYLIGHT
DTSTART:19700329T020000
TZOFFSETFROM:+0100
TZOFFSETTO:+0200
RRULE:FREQ=YEARLY;BYDAY=-1SU;BYMONTH=3
TZNAME:CEST
END:DAYLIGHT
END:VTIMEZONE
BEGIN:VEVENT
UID:20260620T000000-746902@evangelische-termine.de
DTSTAMP:20260420T093829Z
DESCRIPTION:\nKurzbeschreibung: Fahrt zur KonfiOase auf dem Landesjugendcam
 p 'NEU LAND' in Hirschluch\nVeranstaltungsort: Jugendbildungs- und Begegnu
 ngsstätte Hirschluch\n15859 Storkow (Mark)\nWeitere Informationen/Besonder
 e Hinweise: Anreise gemeinsam im Bus als Gruppe - Treffpunkt Cottbus Hbf.
 \nEintritt: 40€\nInternetadresse: https://ejbo.de/projekte/landesjugendcam
 p/\nAnsprechperson: Kreisbeauftragte Juliane Wiemer juliane.wiemer@gemeins
 am.ekbo.de\nKirchstraße 1\n03051 Cottbus OT Kahren  \nTel. 01522 4659197\n
 Kreisbeauftragte für die Arbeit mit Familien & Kindern\n: Bus Psalm 103 (C
 B-PS-103)
DTSTART;VALUE=DATE:20260620
DTEND;VALUE=DATE:20260621
LOCATION:Storkow (Mark): Jugendbildungs- und Begegnungsstätte Hirschluch
SUMMARY:KonfiOase auf dem Landesjugendcamp
URL:https://www.ekbo-termine.de/veranstaltung_im_detail746902.html
END:VEVENT
END:VCALENDAR
