BEGIN:VCALENDAR
VERSION:2.0
PRODID:-//evangelische-termine.de//NONSGML kigkonsult.se iCalcreator 2.18//
CALSCALE:GREGORIAN
METHOD:PUBLISH
X-WR-CALNAME:iCal Evangelische-Termine 21.04.2026
X-WR-CALDESC:iCalender von Evangelische-Termine (21.04.2026)
X-WR-TIMEZONE:Europe/Berlin
X-MS-OLK-FORCEINSPECTOROPEN:TRUE
BEGIN:VTIMEZONE
TZID:Europe/Berlin
BEGIN:STANDARD
DTSTART:19701025T030000
TZOFFSETFROM:+0200
TZOFFSETTO:+0100
RRULE:FREQ=YEARLY;BYDAY=-1SU;BYMONTH=10
TZNAME:CET
END:STANDARD
BEGIN:DAYLIGHT
DTSTART:19700329T020000
TZOFFSETFROM:+0100
TZOFFSETTO:+0200
RRULE:FREQ=YEARLY;BYDAY=-1SU;BYMONTH=3
TZNAME:CEST
END:DAYLIGHT
END:VTIMEZONE
BEGIN:VEVENT
UID:20251214T100000-740684@evangelische-termine.de
DTSTAMP:20260421T103049Z
DESCRIPTION:\nKurzbeschreibung: mit der Kantorei der Innenstadtgemeinde\nPf
 arrperson oder Gottesdienstleitung: Pfrn. Dörte Paul\, Vikarin Anna Seidel
 \nVeranstaltungsort: Frauenkirche\nAn der Frauenkirche\n02826 Görlitz\nKür
 zel für Gottesdienste:  A = Abendmahl im Gottesdienst\nInternetadresse: ht
 tps://www.innenstadtgemeinde-evangelisch-goerlitz.de/\nAnsprechperson: Pfa
 rrerin Dörte Paul d.paul@innenstadtgemeinde-goerlitz.info
DTSTART;TZID=Europe/Berlin:20251214T100000
DTEND;TZID=Europe/Berlin:20251214T110000
LOCATION:Görlitz: Frauenkirche
SUMMARY:Gottesdienst mit Abendmahl :: mit Verabschiedung von Vikarin Anna S
 eidel
URL:https://www.ekbo-termine.de/veranstaltung_im_detail740684.html
END:VEVENT
END:VCALENDAR
