BEGIN:VCALENDAR
VERSION:2.0
PRODID:-//evangelische-termine.de//NONSGML kigkonsult.se iCalcreator 2.18//
CALSCALE:GREGORIAN
METHOD:PUBLISH
X-WR-CALNAME:iCal Evangelische-Termine 20.04.2026
X-WR-CALDESC:iCalender von Evangelische-Termine (20.04.2026)
X-WR-TIMEZONE:Europe/Berlin
X-MS-OLK-FORCEINSPECTOROPEN:TRUE
BEGIN:VTIMEZONE
TZID:Europe/Berlin
BEGIN:STANDARD
DTSTART:19701025T030000
TZOFFSETFROM:+0200
TZOFFSETTO:+0100
RRULE:FREQ=YEARLY;BYDAY=-1SU;BYMONTH=10
TZNAME:CET
END:STANDARD
BEGIN:DAYLIGHT
DTSTART:19700329T020000
TZOFFSETFROM:+0100
TZOFFSETTO:+0200
RRULE:FREQ=YEARLY;BYDAY=-1SU;BYMONTH=3
TZNAME:CEST
END:DAYLIGHT
END:VTIMEZONE
BEGIN:VEVENT
UID:20260619T000000-739906@evangelische-termine.de
DTSTAMP:20260420T093704Z
DESCRIPTION:\nKurzbeschreibung: Gemeinsame Fahrt zum Camp Für alle Jungen G
 emeinden & Konfirmierte '26\nVeranstaltungsort: Jugendbildungs- und Begegn
 ungsstätte Hirschluch\n15859 Storkow (Mark)\nWeitere Informationen/Besonde
 re Hinweise: Vom 19. bis 21. Juni findet in Hirschluch das größte Jugendev
 ent unserer Kirche statt – lass uns zusammen hinfahren!\nTriff Dich mit Ju
 gendlichen aus ganz Berlin-Brandenburg\, um eine Zeit der Gemeinschaft zu 
 verleben! Mit viel Musik\, leckerem Essen\, coolen Workshops\, und und und
  ...\nSo kannst du dabei sein:\nAllein\, mit einem Freund oder als JG: Anm
 eldung und Infos über den QR-Code oder www.fajuki.de\nKosten für die Campt
 eilnahme inkl. Verpflegung:\nBis zum 12. April 40 €/Person (danach 50 €). 
 \nFahrtkosten tragen Kirchenkreis/Gemeinden.\nIch freue mich auf die \ngem
 einsame Zeit mit euch!\nAxel Geldmeyer (Kreisjugendpfarrer)\nTel. 01778538
 931\nEintritt: 60 € / Frühbucherrabatt bis 15.04.2026: 50 €\nInternetadres
 se: https://ejbo.de/projekte/landesjugendcamp/\nAnsprechperson: Kreisjugen
 dpfarrer Axel Geldmeyer axel.geldmeyer@gemeinsam.ekbo.de\nMobil 0177853893
 1
DTSTART;VALUE=DATE:20260619
DTEND;VALUE=DATE:20260622
LOCATION:Storkow (Mark): Jugendbildungs- und Begegnungsstätte Hirschluch
SUMMARY:Landesjugendcamp 'NEU LAND'
URL:https://www.ekbo-termine.de/veranstaltung_im_detail739906.html
END:VEVENT
END:VCALENDAR
