BEGIN:VCALENDAR
VERSION:2.0
PRODID:-//evangelische-termine.de//NONSGML kigkonsult.se iCalcreator 2.18//
CALSCALE:GREGORIAN
METHOD:PUBLISH
X-WR-CALNAME:iCal Evangelische-Termine 26.04.2026
X-WR-CALDESC:iCalender von Evangelische-Termine (26.04.2026)
X-WR-TIMEZONE:Europe/Berlin
X-MS-OLK-FORCEINSPECTOROPEN:TRUE
BEGIN:VTIMEZONE
TZID:Europe/Berlin
BEGIN:STANDARD
DTSTART:19701025T030000
TZOFFSETFROM:+0200
TZOFFSETTO:+0100
RRULE:FREQ=YEARLY;BYDAY=-1SU;BYMONTH=10
TZNAME:CET
END:STANDARD
BEGIN:DAYLIGHT
DTSTART:19700329T020000
TZOFFSETFROM:+0100
TZOFFSETTO:+0200
RRULE:FREQ=YEARLY;BYDAY=-1SU;BYMONTH=3
TZNAME:CEST
END:DAYLIGHT
END:VTIMEZONE
BEGIN:VEVENT
UID:20260424T000000-738701@evangelische-termine.de
DTSTAMP:20260426T013331Z
DESCRIPTION:\nVeranstaltungsort: Ev. Jugendbildungsstätte Hirschluch\n15859
  Storkow (Mark)\nWeitere Informationen/Besondere Hinweise: Beim KreisJugen
 dKonvent treffen sich Jugendliche aus dem ganzen Barnim.\nBei diesem KJK w
 ollen wir gemeinsam verschiedene Veranstaltungen vorbereiten\, darunter So
 mmeraktivitäten.\n\nGemeinsam wird diese Veranstaltung barrierearm\, diskr
 iminierungsfrei und offen für ganz viel Vielfalt. Du hast eine Einschränku
 ng\, die es dir schwer macht\, dabei zu sein? Melde dich bei uns. Wir tun 
 unser Möglichstes\, damit du dabei sein kannst.\nDie Veranstaltung ist off
 en für alle - unabängig von Konfessionszughörigkeit.\nAnsprechperson: Hein
 rich Oehme heinrich.oehme@gemeinsam.ekbo.de\nMobil: 0152 3168 4209
DTSTART;VALUE=DATE:20260424
DTEND;VALUE=DATE:20260427
LOCATION:Storkow (Mark): Ev. Jugendbildungsstätte Hirschluch
SUMMARY:KreisJugendKonvent
URL:https://www.ekbo-termine.de/veranstaltung_im_detail738701.html
END:VEVENT
END:VCALENDAR
