BEGIN:VCALENDAR
VERSION:2.0
PRODID:-//evangelische-termine.de//NONSGML kigkonsult.se iCalcreator 2.18//
CALSCALE:GREGORIAN
METHOD:PUBLISH
X-WR-CALNAME:iCal Evangelische-Termine 25.04.2026
X-WR-CALDESC:iCalender von Evangelische-Termine (25.04.2026)
X-WR-TIMEZONE:Europe/Berlin
X-MS-OLK-FORCEINSPECTOROPEN:TRUE
BEGIN:VTIMEZONE
TZID:Europe/Berlin
BEGIN:STANDARD
DTSTART:19701025T030000
TZOFFSETFROM:+0200
TZOFFSETTO:+0100
RRULE:FREQ=YEARLY;BYDAY=-1SU;BYMONTH=10
TZNAME:CET
END:STANDARD
BEGIN:DAYLIGHT
DTSTART:19700329T020000
TZOFFSETFROM:+0100
TZOFFSETTO:+0200
RRULE:FREQ=YEARLY;BYDAY=-1SU;BYMONTH=3
TZNAME:CEST
END:DAYLIGHT
END:VTIMEZONE
BEGIN:VEVENT
UID:20251119T110000-737777@evangelische-termine.de
DTSTAMP:20260425T103207Z
DESCRIPTION:\nKurzbeschreibung: mit Abendmahl\nPfarrperson oder Gottesdiens
 tleitung: Ludewig\nVeranstaltungsort: Dorfkirche Basdorf\nPrenzlauer Straß
 e 13\n16348 Basdorf
DTSTART;TZID=Europe/Berlin:20251119T110000
DTEND;TZID=Europe/Berlin:20251119T120000
LOCATION:Basdorf: Dorfkirche Basdorf
SUMMARY:Buß- und Bettag
URL:https://www.ekbo-termine.de/veranstaltung_im_detail737777.html
END:VEVENT
END:VCALENDAR
