BEGIN:VCALENDAR
VERSION:2.0
PRODID:-//evangelische-termine.de//NONSGML kigkonsult.se iCalcreator 2.18//
CALSCALE:GREGORIAN
METHOD:PUBLISH
X-WR-CALNAME:iCal Evangelische-Termine 25.04.2026
X-WR-CALDESC:iCalender von Evangelische-Termine (25.04.2026)
X-WR-TIMEZONE:Europe/Berlin
X-MS-OLK-FORCEINSPECTOROPEN:TRUE
BEGIN:VTIMEZONE
TZID:Europe/Berlin
BEGIN:STANDARD
DTSTART:19701025T030000
TZOFFSETFROM:+0200
TZOFFSETTO:+0100
RRULE:FREQ=YEARLY;BYDAY=-1SU;BYMONTH=10
TZNAME:CET
END:STANDARD
BEGIN:DAYLIGHT
DTSTART:19700329T020000
TZOFFSETFROM:+0100
TZOFFSETTO:+0200
RRULE:FREQ=YEARLY;BYDAY=-1SU;BYMONTH=3
TZNAME:CEST
END:DAYLIGHT
END:VTIMEZONE
BEGIN:VEVENT
UID:20251025T140000-728667@evangelische-termine.de
DTSTAMP:20260425T103030Z
DESCRIPTION:\nKurzbeschreibung: Der Bildhauer Daniel Priese ist in unserer 
 3. Ausstellung mit zwei Skulpturen vertreten.\nVeranstaltungsort: Dorfkirc
 he Wandlitz\nBreitscheidstraße 20\n16348 Wandlitz\nWeitere Informationen/B
 esondere Hinweise: Die beiden Figuren-Paare von Priese wurden in einem zei
 tlichen Abstand von ca. zwanzig Jahren geschaffen.\nDer Verein Skulptureng
 arten an der Dorfkirche Wandlitz e.V. lädt herzlich ein zum Gespräch mit d
 em Halberstädter Künstler\nDaniel Priese.\nWir freuen uns auf Ihr Kommen!
 \nInternetadresse: https://www.skulpturengarten-wandlitz.de\nAnsprechperso
 n: Thomas Schubert
DTSTART;TZID=Europe/Berlin:20251025T140000
DTEND;TZID=Europe/Berlin:20251025T160000
LOCATION:Wandlitz: Dorfkirche Wandlitz
SUMMARY:Künstlergespräch mit Daniel Priese
URL:https://www.ekbo-termine.de/veranstaltung_im_detail728667.html
END:VEVENT
END:VCALENDAR
