BEGIN:VCALENDAR
VERSION:2.0
PRODID:-//evangelische-termine.de//NONSGML kigkonsult.se iCalcreator 2.18//
CALSCALE:GREGORIAN
METHOD:PUBLISH
X-WR-CALNAME:iCal Evangelische-Termine 24.04.2026
X-WR-CALDESC:iCalender von Evangelische-Termine (24.04.2026)
X-WR-TIMEZONE:Europe/Berlin
X-MS-OLK-FORCEINSPECTOROPEN:TRUE
BEGIN:VTIMEZONE
TZID:Europe/Berlin
BEGIN:STANDARD
DTSTART:19701025T030000
TZOFFSETFROM:+0200
TZOFFSETTO:+0100
RRULE:FREQ=YEARLY;BYDAY=-1SU;BYMONTH=10
TZNAME:CET
END:STANDARD
BEGIN:DAYLIGHT
DTSTART:19700329T020000
TZOFFSETFROM:+0100
TZOFFSETTO:+0200
RRULE:FREQ=YEARLY;BYDAY=-1SU;BYMONTH=3
TZNAME:CEST
END:DAYLIGHT
END:VTIMEZONE
BEGIN:VEVENT
UID:20260503T103000-712016@evangelische-termine.de
DTSTAMP:20260424T092249Z
DESCRIPTION:\nKurzbeschreibung: Giovanni Pierluigi da Palestrina: Missa Bre
 vis\nPfarrperson oder Gottesdienstleitung: Bischof Dr. Christian Stäblein\
 , Superintendent Matthias Lohenner\nMitwirkende: Mitglieder des RIAS Kamme
 rchor Berlin\nVeranstaltungsort: St. Marienkirche Mitte\nKarl-Liebknecht-S
 tr. 8\n10178 Berlin\nU+S Alexanderplatz\nOrganist:in: LKMD Prof. Dr. Gunte
 r Kennel\nBeschreibung der Kirchenmusik: Giovanni Pierluigi da Palestrina:
  Missa Brevis\nWeitere Informationen/Besondere Hinweise: Im Anschluss: Kir
 chencafé
DTSTART;TZID=Europe/Berlin:20260503T103000
DTEND;TZID=Europe/Berlin:20260503T113000
LOCATION:Berlin: St. Marienkirche Mitte
SUMMARY:Gottesdienst mit Abendmahl
URL:https://www.ekbo-termine.de/veranstaltung_im_detail712016.html
END:VEVENT
END:VCALENDAR
