BEGIN:VCALENDAR
VERSION:2.0
PRODID:-//evangelische-termine.de//NONSGML kigkonsult.se iCalcreator 2.18//
CALSCALE:GREGORIAN
METHOD:PUBLISH
X-WR-CALNAME:iCal Evangelische-Termine 24.04.2026
X-WR-CALDESC:iCalender von Evangelische-Termine (24.04.2026)
X-WR-TIMEZONE:Europe/Berlin
X-MS-OLK-FORCEINSPECTOROPEN:TRUE
BEGIN:VTIMEZONE
TZID:Europe/Berlin
BEGIN:STANDARD
DTSTART:19701025T030000
TZOFFSETFROM:+0200
TZOFFSETTO:+0100
RRULE:FREQ=YEARLY;BYDAY=-1SU;BYMONTH=10
TZNAME:CET
END:STANDARD
BEGIN:DAYLIGHT
DTSTART:19700329T020000
TZOFFSETFROM:+0100
TZOFFSETTO:+0200
RRULE:FREQ=YEARLY;BYDAY=-1SU;BYMONTH=3
TZNAME:CEST
END:DAYLIGHT
END:VTIMEZONE
BEGIN:VEVENT
UID:20260426T103000-712015@evangelische-termine.de
DTSTAMP:20260424T092249Z
DESCRIPTION:\nKurzbeschreibung: J. S. Bach: 'Weinen\, Klagen\, Sorgen\, Zag
 en' BWV 12 - Kantate zum Sonntag Jubilate\nPfarrperson oder Gottesdienstle
 itung: Pfarrer Dr. Alexander Arno Heck\nMitwirkende: MarienKantorei\, Aris
  et Aulis Barockorchester\, Susanne Langner (Alt)\, Stephan Gähler (Tenor)
 \, Wolfram Teßmer (Bass)\, Marienkantorin Marie-Louise Schneider (Leitung)
 \nVeranstaltungsort: St. Marienkirche Mitte\nKarl-Liebknecht-Str. 8\n10178
  Berlin\nU+S Alexanderplatz\nKürzel für Gottesdienste:  GK = Goldene Konfi
 rmation \;  Mu = musikalischer Gottesdienst \;  JK = Jubelkonfirmation\nOr
 ganist:in: Marienorganist Xaver Schult
DTSTART;TZID=Europe/Berlin:20260426T103000
DTEND;TZID=Europe/Berlin:20260426T113000
LOCATION:Berlin: St. Marienkirche Mitte
SUMMARY:Kantaten-Gottesdienst zur Feier der Jubelkonfirmation
URL:https://www.ekbo-termine.de/veranstaltung_im_detail712015.html
END:VEVENT
END:VCALENDAR
