BEGIN:VCALENDAR
VERSION:2.0
PRODID:-//evangelische-termine.de//NONSGML kigkonsult.se iCalcreator 2.18//
CALSCALE:GREGORIAN
METHOD:PUBLISH
X-WR-CALNAME:iCal Evangelische-Termine 26.04.2026
X-WR-CALDESC:iCalender von Evangelische-Termine (26.04.2026)
X-WR-TIMEZONE:Europe/Berlin
X-MS-OLK-FORCEINSPECTOROPEN:TRUE
BEGIN:VTIMEZONE
TZID:Europe/Berlin
BEGIN:STANDARD
DTSTART:19701025T030000
TZOFFSETFROM:+0200
TZOFFSETTO:+0100
RRULE:FREQ=YEARLY;BYDAY=-1SU;BYMONTH=10
TZNAME:CET
END:STANDARD
BEGIN:DAYLIGHT
DTSTART:19700329T020000
TZOFFSETFROM:+0100
TZOFFSETTO:+0200
RRULE:FREQ=YEARLY;BYDAY=-1SU;BYMONTH=3
TZNAME:CEST
END:DAYLIGHT
END:VTIMEZONE
BEGIN:VEVENT
UID:20260401T000000-699825@evangelische-termine.de
DTSTAMP:20260426T013903Z
DESCRIPTION:\nVeranstaltungsort: Friedhöfe am Halleschen Tor\nMehringdamm 2
 1\n10961 Berlin\nU6/U7-Mehringdamm\nWeitere Informationen/Besondere Hinwei
 se: Sonntags bei gutem Wetter erwartet Sie um 14 Uhr am Friedhofseingang d
 er pensionierte Kirchenmusiker und Klavierstimmer Norbert Haag zu einem ku
 rzweiligen Rundgang über die denkmalgeschützten Friedhöfe vor dem Hallesch
 en Tor. Auf dem historischen Friedhof\, wo u.a. Felix Mendelssohn Barthold
 y\, E.T.A. Hoffmann und Adelbert von Chamisso ruhen\, wird Geschichte lebe
 ndig. \n\nEine Anmeldung ist nicht erforderlich. Die Teilnahme ist kostenf
 rei möglich.\nBei Schlechtwetter entfällt die Führung.
DTSTART;VALUE=DATE:20260401
DTEND;VALUE=DATE:20261101
LOCATION:Berlin: Friedhöfe am Halleschen Tor
SUMMARY:Kulturgeschichtliche Führung über die Friedhöfe vor dem Halleschen 
 Tor mit Norbert Haag
URL:https://www.ekbo-termine.de/veranstaltung_im_detail699825.html
END:VEVENT
END:VCALENDAR
