BEGIN:VCALENDAR
VERSION:2.0
PRODID:-//evangelische-termine.de//NONSGML kigkonsult.se iCalcreator 2.18//
CALSCALE:GREGORIAN
METHOD:PUBLISH
X-WR-CALNAME:iCal Evangelische-Termine 22.04.2026
X-WR-CALDESC:iCalender von Evangelische-Termine (22.04.2026)
X-WR-TIMEZONE:Europe/Berlin
X-MS-OLK-FORCEINSPECTOROPEN:TRUE
BEGIN:VTIMEZONE
TZID:Europe/Berlin
BEGIN:STANDARD
DTSTART:19701025T030000
TZOFFSETFROM:+0200
TZOFFSETTO:+0100
RRULE:FREQ=YEARLY;BYDAY=-1SU;BYMONTH=10
TZNAME:CET
END:STANDARD
BEGIN:DAYLIGHT
DTSTART:19700329T020000
TZOFFSETFROM:+0100
TZOFFSETTO:+0200
RRULE:FREQ=YEARLY;BYDAY=-1SU;BYMONTH=3
TZNAME:CEST
END:DAYLIGHT
END:VTIMEZONE
BEGIN:VEVENT
UID:20250401T000000-695522@evangelische-termine.de
DTSTAMP:20260422T133818Z
DESCRIPTION:\nKurzbeschreibung: Öffnungzeiten: wochentags von 9-15 Uhr\nVer
 anstaltungsort: Friedhof Sophien II\nBergstraße 29\n10115 Berlin\nWeitere 
 Informationen/Besondere Hinweise: Die Ausstellung im Mausoleum Wiesenack a
 uf dem Musiker-Friedhof Sophien II in Berlin-Mitte würdigt bekannte Persön
 lichkeiten der Musikwelt wie Carl Bechstein\, Wilhelm Bach\, Albert Lortzi
 ng\, Walter Kollo\, Arndt Bause\, Siegfried Wilhelm Dehn\, Theodor Oesten\
 , Carl Hennig\, Fritz Buchholz\, Gustav Michaelis sowie Adolf Zander\, Kar
 l Schwarzmeier\, Max Graf und Ilse Malena.\nPer Knopfdruck lassen sich aus
 gewählte Musikausschnitte abspielen.\nEintritt: Eintritt frei.
DTSTART;VALUE=DATE:20250401
DTEND;VALUE=DATE:20270101
LOCATION:Berlin: Friedhof Sophien II
SUMMARY:Klang der Geschichte - Dauerausstellung im Mausoleum Wiesenack
URL:https://www.ekbo-termine.de/veranstaltung_im_detail695522.html
END:VEVENT
END:VCALENDAR
