BEGIN:VCALENDAR
VERSION:2.0
PRODID:-//evangelische-termine.de//NONSGML kigkonsult.se iCalcreator 2.18//
CALSCALE:GREGORIAN
METHOD:PUBLISH
X-WR-CALNAME:iCal Evangelische-Termine 20.04.2026
X-WR-CALDESC:iCalender von Evangelische-Termine (20.04.2026)
X-WR-TIMEZONE:Europe/Berlin
X-MS-OLK-FORCEINSPECTOROPEN:TRUE
BEGIN:VTIMEZONE
TZID:Europe/Berlin
BEGIN:STANDARD
DTSTART:19701025T030000
TZOFFSETFROM:+0200
TZOFFSETTO:+0100
RRULE:FREQ=YEARLY;BYDAY=-1SU;BYMONTH=10
TZNAME:CET
END:STANDARD
BEGIN:DAYLIGHT
DTSTART:19700329T020000
TZOFFSETFROM:+0100
TZOFFSETTO:+0200
RRULE:FREQ=YEARLY;BYDAY=-1SU;BYMONTH=3
TZNAME:CEST
END:DAYLIGHT
END:VTIMEZONE
BEGIN:VEVENT
UID:20230417T190000-525956@evangelische-termine.de
DTSTAMP:20260420T115523Z
DESCRIPTION:\nKurzbeschreibung: mit Pf. Berend\nVeranstaltungsort: Kreuzkir
 che Mahlsdorf Nord - Gemeindehaus\nAlbrecht-Dürer-Str. 35\n12623 Berlin\nD
 irekt neben der Kreuzkirche in Mahlsdorf Nord
DTSTART;TZID=Europe/Berlin:20230417T190000
DTEND;TZID=Europe/Berlin:20230417T190000
LOCATION:Berlin: Kreuzkirche Mahlsdorf Nord - Gemeindehaus
RRULE:FREQ=DAILY;UNTIL=20230419T235900Z;INTERVAL=1;WKST=SU
SUMMARY:Bibeltage
URL:https://www.ekbo-termine.de/veranstaltung_im_detail525956.html
END:VEVENT
END:VCALENDAR
