BEGIN:VCALENDAR
VERSION:2.0
PRODID:-//evangelische-termine.de//NONSGML kigkonsult.se iCalcreator 2.18//
CALSCALE:GREGORIAN
METHOD:PUBLISH
X-WR-CALNAME:iCal Evangelische-Termine 20.04.2026
X-WR-CALDESC:iCalender von Evangelische-Termine (20.04.2026)
X-WR-TIMEZONE:Europe/Berlin
X-MS-OLK-FORCEINSPECTOROPEN:TRUE
BEGIN:VTIMEZONE
TZID:Europe/Berlin
BEGIN:STANDARD
DTSTART:19701025T030000
TZOFFSETFROM:+0200
TZOFFSETTO:+0100
RRULE:FREQ=YEARLY;BYDAY=-1SU;BYMONTH=10
TZNAME:CET
END:STANDARD
BEGIN:DAYLIGHT
DTSTART:19700329T020000
TZOFFSETFROM:+0100
TZOFFSETTO:+0200
RRULE:FREQ=YEARLY;BYDAY=-1SU;BYMONTH=3
TZNAME:CEST
END:DAYLIGHT
END:VTIMEZONE
BEGIN:VEVENT
UID:20180420T180000-159568@evangelische-termine.de
DTSTAMP:20260420T043335Z
DESCRIPTION:\nKurzbeschreibung: auf der Hugo-Mayer-Orgel der Lutherkirche i
 n Berlin Spandau von 2015\nVeranstaltungsort: Lutherkirche Spandau\nLuther
 platz 3\n13585 Berlin\nU Rath. Spandau\; Bus M45\, 671 Predigergarten\nMus
 ikalische Kategorie: Orgelmusik\; Neue Musik / Avantgarde\nAufgeführte Wer
 ke: Kurze Projektbeschreibung:\nKompositionen von Charlotte Seither\, Isab
 el Mundry\, Karola Obermüller u.a. setzen neue Impulse in der Orgelmusik\,
  die insbesondere auch den Zugang von Berliner Komponist*innen zur zeitgen
 össischen Orgelmusik zeigen. Die erklingenden Werke gewähren einen Einblic
 k in die vielfältige Szene zeitgenössischer Orgelmusik.\nMitwirkende/Inter
 pret(en): 18 Uhr - Einführende Worte zur neuen Hugo-Mayer-Orgel (2015) der
  Lutherkirche\n19 Uhr - Angela Metzger\n20 Uhr - Dominik Susteck\n21 Uhr -
  Moderiertes Gespräch mit den Komponisten\n21:30 Uhr - Michael Sattelberge
 r\nEintritt: frei\, Spenden erbeten\nInternetadresse: http://luthergemeind
 e-spandau.de und www.orgelnacht.com
DTSTART;TZID=Europe/Berlin:20180420T180000
DTEND;TZID=Europe/Berlin:20180420T190000
LOCATION:Berlin: Lutherkirche Spandau
SUMMARY:Nacht zeitgenössischer Orgelmusik
URL:https://www.ekbo-termine.de/veranstaltung_im_detail159568.html
END:VEVENT
END:VCALENDAR
